BEGIN:VCALENDAR
VERSION:2.0
PRODID:-//Filipino Social Club - ECPv6.13.2.1//NONSGML v1.0//EN
CALSCALE:GREGORIAN
METHOD:PUBLISH
X-WR-CALNAME:Filipino Social Club
X-ORIGINAL-URL:https://filipinosocialclub.org
X-WR-CALDESC:Events for Filipino Social Club
REFRESH-INTERVAL;VALUE=DURATION:PT1H
X-Robots-Tag:noindex
X-PUBLISHED-TTL:PT1H
BEGIN:VTIMEZONE
TZID:UTC
BEGIN:STANDARD
TZOFFSETFROM:+0000
TZOFFSETTO:+0000
TZNAME:UTC
DTSTART:20250101T000000
END:STANDARD
END:VTIMEZONE
BEGIN:VEVENT
DTSTART;TZID=UTC:20251123T150000
DTEND;TZID=UTC:20251123T210000
DTSTAMP:20260423T235614
CREATED:20260421T190140Z
LAST-MODIFIED:20260421T190140Z
UID:982-1763910000-1763931600@filipinosocialclub.org
SUMMARY:Serbisyo Caravan 2 FilSoc Volunteers Thanksgiving & Christmas Party
DESCRIPTION:Our Serbisyo Caravan 2 FilSoc Volunteers Thanksgiving & Christmas Party is happening soon! Date: November 23\, 2025 Time: 3:00 PM onwardsCome in your best Christmas-colored attire and let’s celebrate the spirit of gratitude\, friendship\, and community!Optional: If you wish to join our Exchange Gift\, please bring a gift worth 20 AED.Attendance: Kindly confirm with your Team Leader.Let’s make this gathering memorable. See you there\, dear volunteers!
URL:https://filipinosocialclub.org/event/serbisyo-caravan-2-filsoc-volunteers-thanksgiving-christmas-party/
LOCATION:Migrant Worker’s Office (MWO)\, Dubai
CATEGORIES:FilSoc Events
ATTACH;FMTTYPE=image/jpeg:https://filipinosocialclub.org/wp-content/uploads/2026/04/voluntir-party.jpg
END:VEVENT
END:VCALENDAR