BEGIN:VCALENDAR
VERSION:2.0
PRODID:-//Filipino Social Club - ECPv6.13.2.1//NONSGML v1.0//EN
CALSCALE:GREGORIAN
METHOD:PUBLISH
X-WR-CALNAME:Filipino Social Club
X-ORIGINAL-URL:https://filipinosocialclub.org
X-WR-CALDESC:Events for Filipino Social Club
REFRESH-INTERVAL;VALUE=DURATION:PT1H
X-Robots-Tag:noindex
X-PUBLISHED-TTL:PT1H
BEGIN:VTIMEZONE
TZID:UTC
BEGIN:STANDARD
TZOFFSETFROM:+0000
TZOFFSETTO:+0000
TZNAME:UTC
DTSTART:20260101T000000
END:STANDARD
END:VTIMEZONE
BEGIN:VEVENT
DTSTART;TZID=UTC:20260207T140000
DTEND;TZID=UTC:20260208T100000
DTSTAMP:20260423T205154
CREATED:20260421T175119Z
LAST-MODIFIED:20260421T175119Z
UID:962-1770472800-1770544800@filipinosocialclub.org
SUMMARY:Pinoy Desert Camping 2026
DESCRIPTION:The most awaited\, BIGGEST Winter Camp ng ating Filipino community dito sa Dubai is finally happening!Sugod na sa disyerto para sa isang weekend na puno ng kulitan\, tawanan\, at jamming! SAVE THE DATE!• Event: Pinoy Desert Camping 2026• Date: February 7 – 8\, 2026• Location: Al Batayih\, Sharjah https://maps.app.goo.gl/GJ42Th7Hn91V2mtQ6?g_st=ic \nPlease don’t forget to read our Camping Guidelines para safe at masaya ang lahat! REGISTER HERE: https://forms.gle/3vZkT3WKjTjXDiQC9 FOR MORE DETAILSContact Mr. Christian at +971 56 458 8551.
URL:https://filipinosocialclub.org/event/pinoy-desert-camping-2026/
LOCATION:Al Batayih\, Sharjah
CATEGORIES:FilSoc Events
ATTACH;FMTTYPE=image/jpeg:https://filipinosocialclub.org/wp-content/uploads/2026/04/desert.jpg
END:VEVENT
END:VCALENDAR