BEGIN:VCALENDAR
VERSION:2.0
PRODID:-//Filipino Social Club - ECPv6.13.2.1//NONSGML v1.0//EN
CALSCALE:GREGORIAN
METHOD:PUBLISH
X-ORIGINAL-URL:https://filipinosocialclub.org
X-WR-CALDESC:Events for Filipino Social Club
REFRESH-INTERVAL;VALUE=DURATION:PT1H
X-Robots-Tag:noindex
X-PUBLISHED-TTL:PT1H
BEGIN:VTIMEZONE
TZID:UTC
BEGIN:STANDARD
TZOFFSETFROM:+0000
TZOFFSETTO:+0000
TZNAME:UTC
DTSTART:20260101T000000
END:STANDARD
END:VTIMEZONE
BEGIN:VEVENT
DTSTART;TZID=UTC:20260311T170000
DTEND;TZID=UTC:20260315T190000
DTSTAMP:20260423T125116
CREATED:20260421T173218Z
LAST-MODIFIED:20260421T173218Z
UID:959-1773248400-1773601200@filipinosocialclub.org
SUMMARY:Hand-in-Hand Iftar Meal Distribution
DESCRIPTION:FilSoc is spearheading an Iftar meal distribution to support staff and labor camps in Dubai from March 11 to 15\, 2026. \nThis giving program wouldn’t be possible without the incredible dedication of our committed volunteers and the generosity of our partners and Filipino groups:\n• Filipino Kasambahay Club (FKC)\n• Seven Emirates Guardians\n• Cabalen Express Cargo\n\n• CAFFWOA\n\n• Institute of Integrated Electrical Engineers (IIEE-UAE)\n\n• UAE MTB Jumeirah\n\n• Pinoy Futbol Club\n\n• PSIM-UAE\n\n• Alpha Khapa Rho – UAE\n\n• IPS Certification Services\n\n• PSME – UAE\n\n• Alpha Phi Omega (APO) – UAE\n\n• United Desert Eagles Club\n• Individual sponsors
URL:https://filipinosocialclub.org/event/hand-in-hand-iftar-meal-distribution/
CATEGORIES:FilSoc Events
ATTACH;FMTTYPE=image/jpeg:https://filipinosocialclub.org/wp-content/uploads/2026/04/ramadan.jpg
END:VEVENT
BEGIN:VEVENT
DTSTART;TZID=UTC:20260322T120000
DTEND;TZID=UTC:20260322T170000
DTSTAMP:20260423T125116
CREATED:20260421T171430Z
LAST-MODIFIED:20260421T171430Z
UID:956-1774180800-1774198800@filipinosocialclub.org
SUMMARY:True Giving Waves with FilSoc Cares: Free Diaper Gifts
DESCRIPTION:To all Mothers Who Move the World: This is for you.\n\n\n\nInternational Women’s Day is a time to honor the incredible strength of mothers. At the Filipino Social Club\, we’re standing with you in your journey.\n\n\n\nJoin us for our “FILSOC Free Diaper Gifts” this Sunday\, March 22\, 2026\, for the International Women’s Month and EID in Dubai celebration. It’s our way of saying thank you for the endless love and resilience you pour into our community.\n\n\n\nNote: This Gift is exclusive to the first 200 mothers to sign up.
URL:https://filipinosocialclub.org/event/true-giving-waves-with-filsoc-cares-free-diaper-gifts/
CATEGORIES:FilSoc Events
ATTACH;FMTTYPE=image/jpeg:https://filipinosocialclub.org/wp-content/uploads/2026/04/diaper1.jpg
END:VEVENT
END:VCALENDAR