BEGIN:VCALENDAR
VERSION:2.0
PRODID:-//Filipino Social Club - ECPv6.13.2.1//NONSGML v1.0//EN
CALSCALE:GREGORIAN
METHOD:PUBLISH
X-WR-CALNAME:Filipino Social Club
X-ORIGINAL-URL:https://filipinosocialclub.org
X-WR-CALDESC:Events for Filipino Social Club
REFRESH-INTERVAL;VALUE=DURATION:PT1H
X-Robots-Tag:noindex
X-PUBLISHED-TTL:PT1H
BEGIN:VTIMEZONE
TZID:UTC
BEGIN:STANDARD
TZOFFSETFROM:+0000
TZOFFSETTO:+0000
TZNAME:UTC
DTSTART:20260101T000000
END:STANDARD
END:VTIMEZONE
BEGIN:VEVENT
DTSTART;TZID=UTC:20260412T120000
DTEND;TZID=UTC:20260412T170000
DTSTAMP:20260423T181809
CREATED:20260421T170835Z
LAST-MODIFIED:20260421T171141Z
UID:952-1775995200-1776013200@filipinosocialclub.org
SUMMARY:True Giving Waves with FilSoc Cares: Diaper Drive Wave 2
DESCRIPTION:𝗧𝗥𝗨𝗘 𝗚𝗜𝗩𝗜𝗡𝗚 𝗪𝗔𝗩𝗘𝗦: 𝗧𝗵𝗲 𝗗𝗶𝗮𝗽𝗲𝗿 𝗗𝗿𝗶𝘃𝗲 𝗶𝘀 𝗕𝗮𝗰𝗸!𝗧𝗵𝗲 𝗙𝗶𝗹𝗶𝗽𝗶𝗻𝗼 𝗦𝗼𝗰𝗶𝗮𝗹 𝗖𝗹𝘂𝗯 (𝗙𝗜𝗟𝗦𝗢𝗖) 𝘁𝗵𝗲 𝗼𝗳𝗳𝗶𝗰𝗶𝗮𝗹\, 𝗖𝗗𝗔 𝗹𝗶𝗰𝗲𝗻𝘀𝗲𝗱 𝗿𝗲𝗽𝗿𝗲𝘀𝗲𝗻𝘁𝗮𝘁𝗶𝘃𝗲 𝗼𝗳 𝘁𝗵𝗲 𝗙𝗶𝗹𝗶𝗽𝗶𝗻𝗼 𝗰𝗼𝗺𝗺𝘂𝗻𝗶𝘁𝘆 𝗶𝗻 𝗗𝘂𝗯𝗮𝗶 𝗶𝘀 𝗽𝗿𝗼𝘂𝗱 𝘁𝗼 𝗮𝗻𝗻𝗼𝘂𝗻𝗰𝗲 𝘁𝗵𝗲 𝗿𝗲𝘁𝘂𝗿𝗻 𝗼𝗳 𝗼𝘂𝗿 𝗗𝗶𝗮𝗽𝗲𝗿 𝗚𝗶𝗳𝘁 𝗚𝗶𝘃𝗶𝗻𝗴 𝗲𝘃𝗲𝗻𝘁 𝗳𝗼𝗿 𝗺𝗼𝘁𝗵𝗲𝗿𝘀 𝗮𝗻𝗱 𝗯𝗮𝗯𝗶𝗲𝘀!𝗪𝗲 𝗮𝗿𝗲 𝘀𝗲𝘁 𝘁𝗼 𝗱𝗶𝘀𝘁𝗿𝗶𝗯𝘂𝘁𝗲 𝟱𝟬\,𝟬𝟬𝟬 𝗱𝗶𝗮𝗽𝗲𝗿𝘀 𝘁𝗼 𝟱𝟬𝟬 𝗺𝗼𝘁𝗵𝗲𝗿𝘀 𝗼𝗳 𝗮𝗹𝗹 𝗻𝗮𝘁𝗶𝗼𝗻𝗮𝗹𝗶𝘁𝗶𝗲𝘀. 𝗛𝗲𝗿𝗲 𝗮𝗿𝗲 𝘁𝗵𝗲 𝗲𝘀𝘀𝗲𝗻𝘁𝗶𝗮𝗹 𝗱𝗲𝘁𝗮𝗶𝗹𝘀:𝗘𝗹𝗶𝗴𝗶𝗯𝗶𝗹𝗶𝘁𝘆: 𝗘𝘅𝗰𝗹𝘂𝘀𝗶𝘃𝗲 𝘁𝗼 𝘁𝗵𝗲 𝗳𝗶𝗿𝘀𝘁 𝟱𝟬𝟬 𝗿𝗲𝗴𝗶𝘀𝘁𝗲𝗿𝗲𝗱 𝗺𝗼𝘁𝗵𝗲𝗿𝘀.𝗗𝗮𝘁𝗲: 𝗦𝘂𝗻𝗱𝗮𝘆\, 𝗔𝗽𝗿𝗶𝗹 𝟭𝟮\, 𝟮𝟬𝟮𝟲𝗧𝗶𝗺𝗲: 𝟭𝟮:𝟬𝟬 𝗣𝗠 – 𝟱:𝟬𝟬 𝗣𝗠𝗟𝗼𝗰𝗮𝘁𝗶𝗼𝗻: 𝗧𝗵𝗲 𝘀𝗽𝗲𝗰𝗶𝗳𝗶𝗰 𝘃𝗲𝗻𝘂𝗲 𝗮𝗻𝗱 𝘁𝗶𝗺𝗲 𝘀𝗹𝗼𝘁𝘀 𝘄𝗶𝗹𝗹 𝗯𝗲 𝘀𝗲𝗻𝘁 𝗱𝗶𝗿𝗲𝗰𝘁𝗹𝘆 𝘁𝗼 𝘁𝗵𝗲 𝗿𝗲𝗴𝗶𝘀𝘁𝗲𝗿𝗲𝗱 𝗲𝗺𝗮𝗶𝗹 𝗮𝗱𝗱𝗿𝗲𝘀𝘀 𝗼𝗳 𝘀𝘂𝗰𝗰𝗲𝘀𝘀𝗳𝘂𝗹 𝗮𝗽𝗽𝗹𝗶𝗰𝗮𝗻𝘁𝘀. \n𝗧𝗵𝗶𝘀 𝗶𝗻𝗶𝘁𝗶𝗮𝘁𝗶𝘃𝗲 𝗶𝘀 𝗺𝗮𝗱𝗲 𝗽𝗼𝘀𝘀𝗶𝗯𝗹𝗲 𝘁𝗵𝗿𝗼𝘂𝗴𝗵 𝘁𝗵𝗲 𝗶𝗻𝗰𝗿𝗲𝗱𝗶𝗯𝗹𝗲 𝘀𝘂𝗽𝗽𝗼𝗿𝘁 𝗼𝗳 𝗼𝘂𝗿 𝗽𝗮𝗿𝘁𝗻𝗲𝗿𝘀 𝗮𝗻𝗱 𝘀𝘂𝗽𝗽𝗼𝗿𝘁𝗲𝗿𝘀. 𝗙𝗜𝗟𝗦𝗢𝗖 𝗲𝘅𝘁𝗲𝗻𝗱𝘀 𝗶𝘁𝘀 𝗱𝗲𝗲𝗽𝗲𝘀𝘁 𝗴𝗿𝗮𝘁𝗶𝘁𝘂𝗱𝗲 𝘁𝗼:𝗧𝗵𝗲 𝗦𝘂𝗿𝗽𝗹𝘂𝘀𝘀𝗗𝘂𝗯𝗮𝗶 𝗛𝗼𝗹𝗱𝗶𝗻𝗴𝘀𝗖𝗼𝗺𝗺𝘂𝗻𝗶𝘁𝘆 𝗗𝗲𝘃𝗲𝗹𝗼𝗽𝗺𝗲𝗻𝘁 𝗔𝘂𝘁𝗵𝗼𝗿𝗶𝘁𝘆 (𝗖𝗗𝗔)𝗢𝘂𝗿 𝗱𝗲𝗱𝗶𝗰𝗮𝘁𝗲𝗱 𝗙𝗜𝗟𝗦𝗢𝗖 𝗩𝗼𝗹𝘂𝗻𝘁𝗲𝗲𝗿𝘀
URL:https://filipinosocialclub.org/event/true-giving-waves-with-filsoc-cares-diaper-drive/
CATEGORIES:FilSoc Events
ATTACH;FMTTYPE=image/jpeg:https://filipinosocialclub.org/wp-content/uploads/2026/04/diaper.jpg
END:VEVENT
BEGIN:VEVENT
DTSTART;TZID=UTC:20260415T080000
DTEND;TZID=UTC:20260415T233000
DTSTAMP:20260423T181809
CREATED:20260421T170056Z
LAST-MODIFIED:20260421T170056Z
UID:948-1776240000-1776295800@filipinosocialclub.org
SUMMARY:Gawad Pinoy 2026
DESCRIPTION:𝗘𝘃𝗲𝗿𝘆 𝘀𝘂𝗰𝗰𝗲𝘀𝘀 𝗰𝗮𝗿𝗿𝗶𝗲𝘀 𝗮 𝘀𝘁𝗼𝗿𝘆 𝘄𝗼𝗿𝘁𝗵 𝘁𝗲𝗹𝗹𝗶𝗻𝗴.\n\n\n𝗖𝗲𝗹𝗲𝗯𝗿𝗮𝘁𝗲 𝗮𝗻 𝗼𝘂𝘁𝘀𝘁𝗮𝗻𝗱𝗶𝗻𝗴 𝗢𝘃𝗲𝗿𝘀𝗲𝗮𝘀 𝗙𝗶𝗹𝗶𝗽𝗶𝗻𝗼 𝘄𝗵𝗼𝘀𝗲 𝗷𝗼𝘂𝗿𝗻𝗲𝘆 𝗿𝗲𝗳𝗹𝗲𝗰𝘁𝘀 𝗿𝗲𝘀𝗶𝗹𝗶𝗲𝗻𝗰𝗲\, 𝗽𝘂𝗿𝗽𝗼𝘀𝗲\, 𝗮𝗻𝗱 𝗶𝗺𝗽𝗮𝗰𝘁 𝗶𝗻 𝘁𝗵𝗲 𝗨𝗔𝗘. 𝗞𝗻𝗼𝘄 𝘀𝗼𝗺𝗲𝗼𝗻𝗲 𝗺𝗮𝗸𝗶𝗻𝗴 𝗮 𝗿𝗲𝗮𝗹 𝗱𝗶𝗳𝗳𝗲𝗿𝗲𝗻𝗰𝗲?\n\n\n𝗡𝗼𝗺𝗶𝗻𝗮𝘁𝗶𝗼𝗻𝘀 𝗮𝗿𝗲 𝗻𝗼𝘄 𝗼𝗳𝗳𝗶𝗰𝗶𝗮𝗹𝗹𝘆 𝗼𝗽𝗲𝗻.\n𝗗𝗲𝗮𝗱𝗹𝗶𝗻𝗲: 𝗔𝗽𝗿𝗶𝗹 𝟭𝟱\, 𝟮𝟬𝟮𝟲.\n𝗖𝗹𝗶𝗰𝗸 𝘁𝗵𝗲 𝗹𝗶𝗻𝗸 𝗯𝗲𝗹𝗼𝘄 𝗼𝗿 𝘀𝗰𝗮𝗻 𝘁𝗵𝗲 𝗤𝗥 𝗰𝗼𝗱𝗲 𝘁𝗼 𝗻𝗼𝗺𝗶𝗻𝗮𝘁𝗲.\n𝗟𝗶𝗻𝗸: https://forms.gle/tCFNVULFCPJSe5gn8
URL:https://filipinosocialclub.org/event/gawad-pinoy-2026/
CATEGORIES:FilSoc Events
ATTACH;FMTTYPE=image/jpeg:https://filipinosocialclub.org/wp-content/uploads/2026/04/gawad.jpg
END:VEVENT
END:VCALENDAR