BEGIN:VCALENDAR
VERSION:2.0
PRODID:-//Filipino Social Club - ECPv6.13.2.1//NONSGML v1.0//EN
CALSCALE:GREGORIAN
METHOD:PUBLISH
X-ORIGINAL-URL:https://filipinosocialclub.org
X-WR-CALDESC:Events for Filipino Social Club
REFRESH-INTERVAL;VALUE=DURATION:PT1H
X-Robots-Tag:noindex
X-PUBLISHED-TTL:PT1H
BEGIN:VTIMEZONE
TZID:UTC
BEGIN:STANDARD
TZOFFSETFROM:+0000
TZOFFSETTO:+0000
TZNAME:UTC
DTSTART:20240101T000000
END:STANDARD
END:VTIMEZONE
BEGIN:VEVENT
DTSTART;TZID=UTC:20260110T150000
DTEND;TZID=UTC:20260110T220000
DTSTAMP:20260423T144104
CREATED:20260421T181414Z
LAST-MODIFIED:20260421T181414Z
UID:970-1768057200-1768082400@filipinosocialclub.org
SUMMARY:Konsyerto Para sa Filipino
DESCRIPTION:Mga Kababayan\, tara na sa KONSYERTO PARA SA FILIPINO\, a FREE CONCERT for the Filipino community in the Middle East ngayong Sabado\, January 10\, at Dubai Exhibition Centre\, Expo City. Gates open at 3 pm.\n\n\n\nFREE ADMISSION ito! Tune in to the official MMFF Facebook page to find out how to get your FREE TICKETS!\n\n\n\nMMFF Page: https://www.facebook.com/share/1AgNCjVxZo/?mibextid=wwXIfr
URL:https://filipinosocialclub.org/event/konsyerto-para-sa-filipino/
LOCATION:Dubai Exhibition Centre (DEC)\, Expo City\, Dubai
CATEGORIES:In Partnership Events
ATTACH;FMTTYPE=image/jpeg:https://filipinosocialclub.org/wp-content/uploads/2026/04/concert.jpg
END:VEVENT
BEGIN:VEVENT
DTSTART;VALUE=DATE:20260110
DTEND;VALUE=DATE:20260112
DTSTAMP:20260423T144104
CREATED:20260421T180735Z
LAST-MODIFIED:20260421T180735Z
UID:966-1768003200-1768175999@filipinosocialclub.org
SUMMARY:Bagong Bayani ng Mundo: OFW Serbisyo Caravan
DESCRIPTION:The following offices will be participating in said Serbisyo Caravan:⁣\n• Office of the President⁣\n• Department of Migrant Workers (DMW)⁣\n• Philippine Consulate General – Dubai (PCG-Dubai)⁣\n• Migrant Workers Office – Dubai (MWO-Dubai)⁣\n• Overseas Workers Welfare Administration (OWWA)⁣\n• Social Security System (SSS)⁣\n• Pag-IBIG Fund (Pag-IBIG)⁣\n• Department of Information\, Communication and Technology (DICT)⁣\n• Department of Social Welfare and Development (DSWD)⁣\n• Philippine Health Insurance Corporation (PhilHealth)⁣\n• Land Transportation Office (LTO)⁣\n⁣\n𝘍𝘪𝘭𝘪𝘱𝘪𝘯𝘰𝘴 𝘪𝘯𝘵𝘦𝘯𝘥𝘪𝘯𝘨 𝘵𝘰 𝘱𝘢𝘳𝘵𝘪𝘤𝘪𝘱𝘢𝘵𝘦 𝘪𝘯 𝘵𝘩𝘦 𝘖𝘍𝘞 𝘚𝘦𝘳𝘣𝘪𝘴𝘺𝘰 𝘊𝘢𝘳𝘢𝘷𝘢𝘯 𝘢𝘳𝘦 𝘥𝘪𝘳𝘦𝘤𝘵𝘦𝘥 𝘵𝘰 𝘱𝘳𝘦-𝘳𝘦𝘨𝘪𝘴𝘵𝘦𝘳 𝘰𝘯𝘭𝘪𝘯𝘦 𝘵𝘰 𝘴𝘦𝘤𝘶𝘳𝘦 𝘢 𝘴𝘭𝘰𝘵 𝘪𝘯 𝘵𝘩𝘦 𝘢𝘤𝘵𝘪𝘷𝘪𝘵𝘺.\n𝘛𝘰 𝘙𝘦𝘨𝘪𝘴𝘵𝘦𝘳\, 𝘗𝘭𝘦𝘢𝘴𝘦 𝘷𝘪𝘴𝘪𝘵 𝘵𝘩𝘦 𝘭𝘪𝘯𝘬 𝘣𝘦𝘭𝘰𝘸 𝘰𝘳 𝘴𝘤𝘢𝘯 𝘵𝘩𝘦 𝘘𝘙 𝘤𝘰𝘥𝘦:⁣ http://tinyurl.com/SerbisyoCaravan3\n⁣\n𝘗𝘢𝘳𝘵𝘪𝘤𝘪𝘱𝘢𝘵𝘪𝘯𝘨 𝘢𝘨𝘦𝘯𝘤𝘪𝘦𝘴 𝘴𝘦𝘱𝘢𝘳𝘢𝘵𝘦 𝘧𝘳𝘰𝘮 𝘔𝘞𝘖-𝘋𝘶𝘣𝘢𝘪 𝘩𝘢𝘷𝘦 𝘥𝘪𝘧𝘧𝘦𝘳𝘦𝘯𝘵 𝘳𝘦𝘨𝘪𝘴𝘵𝘳𝘢𝘵𝘪𝘰𝘯 𝘧𝘰𝘳𝘮𝘴 𝘦𝘮𝘣𝘦𝘥𝘥𝘦𝘥 𝘪𝘯 𝘵𝘩𝘦 𝘢𝘣𝘰𝘷𝘦 𝘭𝘪𝘯𝘬.⁣\n⁣\n\n\nFor more details: https://mwodubai.org/…/mwo-dubai-advisory-no-01-series…/\n\n\nWebsite: https://mwodubai.org/
URL:https://filipinosocialclub.org/event/bagong-bayani-ng-mundo-ofw-serbisyo-caravan/
LOCATION:Grand Ballroom\, 2nd Floor\, Conrad Hotel\, Dubai
CATEGORIES:In Partnership Events
ATTACH;FMTTYPE=image/jpeg:https://filipinosocialclub.org/wp-content/uploads/2026/04/serbisyo-caravan-3.jpg
END:VEVENT
BEGIN:VEVENT
DTSTART;TZID=UTC:20251206T080000
DTEND;TZID=UTC:20251206T170000
DTSTAMP:20260423T144104
CREATED:20260421T184410Z
LAST-MODIFIED:20260421T184410Z
UID:978-1765008000-1765040400@filipinosocialclub.org
SUMMARY:Salamat Kabayan (Year 4): Handog Serbisyo
DESCRIPTION:Handog na isang espesyal na araw para sa mga KASAMBAHAY\, CLEANERS & DRIVERS!\n\n\nTara na at makiisa sa SALAMAT KABAYAN YEAR 4 – HANDOG SERBISYO\n\n\n\n“Araw ng Kasambahay sa Piling ng Pasko”\n\n\n December 6\, 2025 (Saturday)\n 8:00 AM – 5:00 PM\n Al Hudaibia School\, Al Twar 2\, Dubai (Near Al Qusais Metro Station)\n\n\n\n Enjoy FREE services and activities:\n MWO Services\n Free Medical Consultation\n Free Beauty Services\n Entertainment & Food\n Games\, Raffles & Exciting Prizes\n\n\n\nContests:\n– Christmas Caroling\n– Damit Pasko\n– Recycled Parol Contest\n\n\n\nIsang araw na puno ng saya\, serbisyo\, at pasasalamat para sa lahat ng kasambahay na patuloy na nagsisilbi nang may puso.\n\n\nKita-kits po tayo!
URL:https://filipinosocialclub.org/event/salamat-kabayan-year-4-handog-serbisyo/
LOCATION:Al Hudaiba School\, Al Twar 2\, Dubai
CATEGORIES:In Partnership Events
ATTACH;FMTTYPE=image/jpeg:https://filipinosocialclub.org/wp-content/uploads/2026/04/salamat-kabayan.jpg
END:VEVENT
BEGIN:VEVENT
DTSTART;TZID=UTC:20251115T080000
DTEND;TZID=UTC:20251116T180000
DTSTAMP:20260423T144104
CREATED:20260421T191229Z
LAST-MODIFIED:20260421T191229Z
UID:988-1763193600-1763316000@filipinosocialclub.org
SUMMARY:Bagong Bayani ng Mundo - Serbisyo Caravan Leg 2
DESCRIPTION:As an offshoot of the first inter-agency Overseas Filipino Workers (OFW) Serbisyo Caravan conducted in Dubai\, United Arab Emirates\, on 03 August 2025\, may we inform the public that the Department of Migrant Workers\, through the Migrant Workers Office – Dubai and Northern Emirates\, will conduct the second leg of this initiative\, with details as follows:\n\n\nWHAT: Bagong Bayani ng Mundo: OFW Serbisyo Caravan\nWHERE: Hall 3\, Dubai World Trade Center\, Dubai\, UAE\nWHEN: 15 and 16 November 2025\, from 08:00 AM to 06:00 PM\n\n\n\nThe following offices will be participating in said Serbisyo Caravan:\n\n\n– 𝘗𝘩𝘪𝘭𝘪𝘱𝘱𝘪𝘯𝘦 𝘊𝘰𝘯𝘴𝘶𝘭𝘢𝘵𝘦 𝘎𝘦𝘯𝘦𝘳𝘢𝘭 – 𝘋𝘶𝘣𝘢𝘪 (𝘗𝘊𝘎-𝘋𝘶𝘣𝘢𝘪)\n– 𝘔𝘪𝘨𝘳𝘢𝘯𝘵 𝘞𝘰𝘳𝘬𝘦𝘳𝘴 𝘖𝘧𝘧𝘪𝘤𝘦 – 𝘋𝘶𝘣𝘢𝘪 (𝘔𝘞𝘖-𝘋𝘶𝘣𝘢𝘪)\n– 𝘖𝘷𝘦𝘳𝘴𝘦𝘢𝘴 𝘞𝘰𝘳𝘬𝘦𝘳𝘴 𝘞𝘦𝘭𝘧𝘢𝘳𝘦 𝘈𝘥𝘮𝘪𝘯𝘪𝘴𝘵𝘳𝘢𝘵𝘪𝘰𝘯 (𝘖𝘞𝘞𝘈)\n– 𝘚𝘰𝘤𝘪𝘢𝘭 𝘚𝘦𝘤𝘶𝘳𝘪𝘵𝘺 𝘚𝘺𝘴𝘵𝘦𝘮 (𝘚𝘚𝘚)\n– 𝘗𝘢𝘨-𝘐𝘉𝘐𝘎 𝘍𝘶𝘯𝘥 (𝘗𝘢𝘨-𝘐𝘉𝘐𝘎)\n– 𝘗𝘩𝘪𝘭𝘪𝘱𝘱𝘪𝘯𝘦 𝘛𝘳𝘢𝘥𝘦 𝘢𝘯𝘥 𝘐𝘯𝘷𝘦𝘴𝘵𝘮𝘦𝘯𝘵 𝘊𝘦𝘯𝘵𝘦𝘳 (𝘗𝘛𝘐𝘊)\n– 𝘋𝘦𝘱𝘢𝘳𝘵𝘮𝘦𝘯𝘵 𝘰𝘧 𝘚𝘰𝘤𝘪𝘢𝘭 𝘞𝘦𝘭𝘧𝘢𝘳𝘦 𝘢𝘯𝘥 𝘋𝘦𝘷𝘦𝘭𝘰𝘱𝘮𝘦𝘯𝘵 (𝘋𝘚𝘞𝘋)\n– 𝘗𝘩𝘪𝘭𝘪𝘱𝘱𝘪𝘯𝘦 𝘚𝘵𝘢𝘵𝘪𝘴𝘵𝘪𝘤𝘴 𝘈𝘶𝘵𝘩𝘰𝘳𝘪𝘵𝘺 (𝘗𝘚𝘈)\n– 𝘗𝘩𝘪𝘭𝘪𝘱𝘱𝘪𝘯𝘦 𝘏𝘦𝘢𝘭𝘵𝘩 𝘐𝘯𝘴𝘶𝘳𝘢𝘯𝘤𝘦 𝘊𝘰𝘳𝘱𝘰𝘳𝘢𝘵𝘪𝘰𝘯 (𝘗𝘩𝘪𝘭𝘏𝘦𝘢𝘭𝘵𝘩)\n-𝘓𝘢𝘯𝘥𝘉𝘢𝘯𝘬 𝘰𝘧 𝘵𝘩𝘦 𝘗𝘩𝘪𝘭𝘪𝘱𝘱𝘪𝘯𝘦𝘴 (𝘓𝘉𝘗)\n– 𝘗𝘶𝘣𝘭𝘪𝘤 𝘈𝘵𝘵𝘰𝘳𝘯𝘦𝘺’𝘴 𝘖𝘧𝘧𝘪𝘤𝘦 (𝘗𝘈𝘖)\n\n\n\nFilipinos intending to participate in the OFW Serbisyo Caravan are directed to pre-register online to secure a slot in the activity. Please be informed that only registered clients will be allowed entry to the Caravan. To register\, please visit the link below or scan the QR code: https://www.bit.ly/SerbisyoCaravan-Leg2\n\n\n\nParticipating agencies separate from MWO-Dubai have different registration forms embedded in the above link.\n\n\n\n𝘍𝘰𝘳 𝘮𝘰𝘳𝘦 𝘪𝘯𝘧𝘰𝘳𝘮𝘢𝘵𝘪𝘰𝘯 𝘰𝘯 𝘵𝘩𝘦 𝘖𝘍𝘞 𝘚𝘦𝘳𝘣𝘪𝘴𝘺𝘰 𝘊𝘢𝘳𝘢𝘷𝘢𝘯\, 𝘱𝘭𝘦𝘢𝘴𝘦 𝘳𝘦𝘧𝘦𝘳 𝘵𝘰 𝘵𝘩𝘦 𝘢𝘵𝘵𝘢𝘤𝘩𝘦𝘥 𝘧𝘭𝘺𝘦𝘳𝘴 𝘢𝘯𝘥 𝘷𝘪𝘴𝘪𝘵 𝘵𝘩𝘦 𝘔𝘞𝘖-𝘋𝘶𝘣𝘢𝘪 𝘸𝘦𝘣𝘴𝘪𝘵𝘦 (𝘮𝘸𝘰𝘥𝘶𝘣𝘢𝘪.𝘰𝘳𝘨) 𝘢𝘯𝘥 𝘍𝘢𝘤𝘦𝘣𝘰𝘰𝘬 𝘱𝘢𝘨𝘦 (𝘩𝘵𝘵𝘱𝘴://𝘸𝘸𝘸.𝘧𝘢𝘤𝘦𝘣𝘰𝘰𝘬.𝘤𝘰𝘮/𝘔𝘞𝘖𝘋𝘶𝘣𝘢𝘪𝘖𝘧𝘧𝘪𝘤𝘪𝘢𝘭/).\n\n\n\nFor more info: https://mwodubai.org/…/mwo-dubai-advisory-no-26-series…/\n\n\nWebsite: https://mwodubai.org/
URL:https://filipinosocialclub.org/event/bagong-bayani-ng-mundo-serbisyo-caravan-leg-2/
LOCATION:Dubai World Trade Centre
CATEGORIES:In Partnership Events
ATTACH;FMTTYPE=image/jpeg:https://filipinosocialclub.org/wp-content/uploads/2026/04/caravan1.jpg
END:VEVENT
BEGIN:VEVENT
DTSTART;TZID=UTC:20251018T080000
DTEND;TZID=UTC:20251018T170000
DTSTAMP:20260423T144104
CREATED:20260421T191612Z
LAST-MODIFIED:20260421T191612Z
UID:992-1760774400-1760806800@filipinosocialclub.org
SUMMARY:Barista & Pastry Baking (Free Training)
DESCRIPTION:𝗧𝗵𝗿𝗼𝘂𝗴𝗵 𝘁𝗵𝗲 𝗶𝗻𝗶𝘁𝗶𝗮𝘁𝗶𝘃𝗲 𝗼𝗳 𝗢𝗪𝗪𝗔\, 𝘄𝗲 𝗮𝗿𝗲 𝗽𝗹𝗲𝗮𝘀𝗲𝗱 𝘁𝗼 𝗼𝗳𝗳𝗲𝗿 𝗮 𝗙𝗥𝗘𝗘 𝗧𝗿𝗮𝗶𝗻𝗶𝗻𝗴 𝗼𝗻 𝗕𝗮𝗿𝗶𝘀𝘁𝗮 𝗮𝗻𝗱 𝗣𝗮𝘀𝘁𝗿𝘆 𝗕𝗮𝗸𝗶𝗻𝗴.𝗗𝗮𝘁𝗲: 𝗢𝗰𝘁𝗼𝗯𝗲𝗿 𝟭𝟴 (𝗦𝗮𝘁𝘂𝗿𝗱𝗮𝘆)𝗧𝗶𝗺𝗲: 𝟴:𝟬𝟬 𝗔𝗠 𝘁𝗼 𝟱:𝟬𝟬 𝗣𝗠𝗩𝗲𝗻𝘂𝗲: 𝗠𝗶𝗴𝗿𝗮𝗻𝘁 𝗪𝗼𝗿𝗸𝗲𝗿𝘀 𝗢𝗳𝗳𝗶𝗰𝗲 (𝗠𝗪𝗢)\, 𝗔𝗹 𝗤𝘂𝘀𝗮𝗶𝘀.𝗢𝗽𝗲𝗻 𝘁𝗼 𝗮𝗹𝗹 𝗙𝗜𝗟𝗦𝗢𝗖 𝗮𝗰𝘁𝗶𝘃𝗲 𝗢𝗪𝗪𝗔 𝗺𝗲𝗺𝗯𝗲𝗿𝘀 𝗼𝗻𝗹𝘆.𝗧𝗼 𝗷𝗼𝗶𝗻\, 𝗽𝗹𝗲𝗮𝘀𝗲 𝗿𝗲𝗴𝗶𝘀𝘁𝗲𝗿 𝘁𝗵𝗿𝗼𝘂𝗴𝗵 𝘁𝗵𝗲 𝗹𝗶𝗻𝗸 𝗯𝗲𝗹𝗼𝘄:  https://forms.gle/QZQWrCQpo17PaekdA𝗗𝗼𝗻’𝘁 𝗺𝗶𝘀𝘀 𝘁𝗵𝗶𝘀 𝗼𝗽𝗽𝗼𝗿𝘁𝘂𝗻𝗶𝘁𝘆 𝘁𝗼 𝗹𝗲𝗮𝗿𝗻 𝗻𝗲𝘄 𝘀𝗸𝗶𝗹𝗹𝘀 𝗳𝗼𝗿 𝗳𝗿𝗲𝗲
URL:https://filipinosocialclub.org/event/barista-pastry-baking-free-training/
LOCATION:Migrant Worker’s Office (MWO)\, Dubai
CATEGORIES:In Partnership Events
ATTACH;FMTTYPE=image/jpeg:https://filipinosocialclub.org/wp-content/uploads/2026/04/training.jpg
END:VEVENT
BEGIN:VEVENT
DTSTART;TZID=UTC:20250803T090000
DTEND;TZID=UTC:20250803T180000
DTSTAMP:20260423T144104
CREATED:20260421T200010Z
LAST-MODIFIED:20260421T200010Z
UID:1002-1754211600-1754244000@filipinosocialclub.org
SUMMARY:Bagong Bayani ng Mundo: Serbisyo Caravan
DESCRIPTION:𝐌𝐖𝐎 𝐃𝐮𝐛𝐚𝐢 𝐀𝐝𝐯𝐢𝐬𝐨𝐫𝐲 𝐍𝐨. 𝟐𝟎\, 𝐒𝐞𝐫𝐢𝐞𝐬 𝐨𝐟 𝟐𝟎𝟐𝟓\, 𝐁𝐚𝐲𝐚𝐧𝐢 𝐧𝐠 𝐌𝐮𝐧𝐝𝐨: 𝐎𝐅𝐖 𝐒𝐞𝐫𝐛𝐢𝐬𝐲𝐨 𝐂𝐚𝐫𝐚𝐯𝐚𝐧 𝐢𝐧 𝐃𝐮𝐛𝐚𝐢\, 𝐔𝐀𝐄\n\n\n\n𝘛𝘩𝘦 𝘋𝘦𝘱𝘢𝘳𝘵𝘮𝘦𝘯𝘵 𝘰𝘧 𝘔𝘪𝘨𝘳𝘢𝘯𝘵 𝘞𝘰𝘳𝘬𝘦𝘳𝘴 (𝘋𝘔𝘞)\, 𝘵𝘩𝘳𝘰𝘶𝘨𝘩 𝘵𝘩𝘦 𝘔𝘪𝘨𝘳𝘢𝘯𝘵 𝘞𝘰𝘳𝘬𝘦𝘳𝘴 𝘖𝘧𝘧𝘪𝘤𝘦 – 𝘋𝘶𝘣𝘢𝘪 (𝘔𝘞𝘖 𝘋𝘶𝘣𝘢𝘪)\, 𝘪𝘴 𝘱𝘭𝘦𝘢𝘴𝘦𝘥 𝘵𝘰 𝘢𝘯𝘯𝘰𝘶𝘯𝘤𝘦 𝘵𝘩𝘦 𝘤𝘰𝘯𝘥𝘶𝘤𝘵 𝘰𝘧 𝘢𝘯 𝘪𝘯𝘵𝘦𝘳-𝘢𝘨𝘦𝘯𝘤𝘺 𝘪𝘯𝘪𝘵𝘪𝘢𝘵𝘪𝘷𝘦\, 𝘵𝘩𝘦 𝐁𝐚𝐠𝐨𝐧𝐠 𝐁𝐚𝐲𝐚𝐧𝐢 𝐧𝐠 𝐌𝐮𝐧𝐝𝐨: 𝐎𝐅𝐖 𝐒𝐞𝐫𝐛𝐢𝐬𝐲𝐨 𝐂𝐚𝐫𝐚𝐯𝐚𝐧 𝘪𝘯 𝘋𝘶𝘣𝘢𝘪\, 𝘜𝘯𝘪𝘵𝘦𝘥 𝘈𝘳𝘢𝘣 𝘌𝘮𝘪𝘳𝘢𝘵𝘦𝘴. 𝘛𝘩𝘦 𝘤𝘢𝘳𝘢𝘷𝘢𝘯 𝘴𝘦𝘳𝘷𝘦𝘴 𝘢𝘴 𝘢 𝘰𝘯𝘦-𝘴𝘵𝘰𝘱 𝘴𝘩𝘰𝘱 𝘤𝘢𝘮𝘱𝘢𝘪𝘨𝘯 𝘵𝘰 𝘳𝘦𝘪𝘯𝘵𝘳𝘰𝘥𝘶𝘤𝘦 𝘱𝘢𝘳𝘵𝘪𝘤𝘪𝘱𝘢𝘵𝘪𝘯𝘨 𝘨𝘰𝘷𝘦𝘳𝘯𝘮𝘦𝘯𝘵 𝘢𝘨𝘦𝘯𝘤𝘪𝘦𝘴 𝘷𝘢𝘳𝘪𝘰𝘶𝘴 𝘱𝘳𝘰𝘨𝘳𝘢𝘮 𝘢𝘯𝘥 𝘴𝘦𝘳𝘷𝘪𝘤𝘦𝘴\, 𝘥𝘦𝘴𝘪𝘨𝘯𝘦𝘥 𝘢𝘴 𝘢 𝘤𝘰𝘮𝘱𝘳𝘦𝘩𝘦𝘯𝘴𝘪𝘷𝘦 𝘰𝘶𝘵𝘳𝘦𝘢𝘤𝘩 𝘱𝘳𝘰𝘨𝘳𝘢𝘮 𝘵𝘰 𝘱𝘳𝘰𝘷𝘪𝘥𝘦 𝘦𝘢𝘴𝘺 𝘢𝘤𝘤𝘦𝘴𝘴 𝘵𝘰 𝘪𝘯-𝘥𝘦𝘮𝘢𝘯𝘥 𝘨𝘰𝘷𝘦𝘳𝘯𝘮𝘦𝘯𝘵 𝘴𝘦𝘳𝘷𝘪𝘤𝘦𝘴\n\n\n\nFor more details\, visit: https://mwodubai.org/…/mwo-dubai-advisory-no-20-series…/\n\n\nhttps://mwodubai.org/
URL:https://filipinosocialclub.org/event/bagong-bayani-ng-mundo-serbisyo-caravan/
LOCATION:Dubai World Trade Centre
CATEGORIES:In Partnership Events
ATTACH;FMTTYPE=image/jpeg:https://filipinosocialclub.org/wp-content/uploads/2026/04/caravan-orig.jpg
END:VEVENT
BEGIN:VEVENT
DTSTART;TZID=UTC:20250612T193000
DTEND;TZID=UTC:20250612T200000
DTSTAMP:20260423T144104
CREATED:20260421T201651Z
LAST-MODIFIED:20260421T201651Z
UID:1014-1749756600-1749758400@filipinosocialclub.org
SUMMARY:Raise Your Flag!
DESCRIPTION:𝗞𝗮𝗯𝗮𝘆𝗮𝗻 Raise Your Flag!!! \n𝗚𝗲𝘁 𝗿𝗲𝗮𝗱𝘆 𝘁𝗼 𝘄𝗶𝘁𝗻𝗲𝘀𝘀 𝗮 𝘀𝗽𝗲𝗰𝘁𝗮𝗰𝘂𝗹𝗮𝗿 𝗰𝗲𝗹𝗲𝗯𝗿𝗮𝘁𝗶𝗼𝗻 𝗼𝗳 𝗣𝗵𝗶𝗹𝗶𝗽𝗽𝗶𝗻𝗲 𝗜𝗻𝗱𝗲𝗽𝗲𝗻𝗱𝗲𝗻𝗰𝗲 𝗗𝗮𝘆 𝗟𝗲𝘁❜𝘀 𝗰𝗼𝗺𝗲 𝘁𝗼𝗴𝗲𝘁𝗵𝗲𝗿 𝗮𝗻𝗱 𝘄𝗮𝘁𝗰𝗵 𝘁𝗵𝗲 𝗕𝘂𝗿𝗷 𝗞𝗵𝗮𝗹𝗶𝗳𝗮 𝗹𝗶𝗴𝗵𝘁 𝘂𝗽 𝗶𝗻 𝗼𝘂𝗿 𝗻𝗮𝘁𝗶𝗼𝗻𝗮𝗹 𝗰𝗼𝗹𝗼𝗿𝘀 𝗼𝗻𝗰𝗲 𝗮𝗴𝗮𝗶𝗻.𝗝𝗼𝗶𝗻 𝘂𝘀 𝗼𝗻 𝗝𝘂𝗻𝗲 𝟭𝟮\, 𝟮𝟬𝟮𝟱\, 𝗮𝘁 𝟳:𝟱𝟬 𝗣𝗠 𝗳𝗼𝗿 𝗮 𝘁𝗿𝘂𝗹𝘆 𝗽𝗿𝗼𝘂𝗱 𝗮𝗻𝗱 𝗵𝗶𝘀𝘁𝗼𝗿𝗶𝗰 𝗲𝘃𝗲𝗻𝗶𝗻𝗴 𝗼𝗳 𝘂𝗻𝗶𝘁𝘆\, 𝗵𝗲𝗿𝗶𝘁𝗮𝗴𝗲\, 𝗮𝗻𝗱 𝗙𝗶𝗹𝗶𝗽𝗶𝗻𝗼 𝗽𝗿𝗶𝗱𝗲 𝗗𝗼𝗻❜𝘁 𝗺𝗶𝘀𝘀 𝗶𝘁
URL:https://filipinosocialclub.org/event/raise-your-flag/
LOCATION:Burj Khalifa\, Dubai Mall
CATEGORIES:In Partnership Events
ATTACH;FMTTYPE=image/jpeg:https://filipinosocialclub.org/wp-content/uploads/2026/04/ph-flag-burj.jpg
END:VEVENT
BEGIN:VEVENT
DTSTART;TZID=UTC:20250612T150000
DTEND;TZID=UTC:20250612T160000
DTSTAMP:20260423T144104
CREATED:20260421T202045Z
LAST-MODIFIED:20260421T202045Z
UID:1018-1749740400-1749744000@filipinosocialclub.org
SUMMARY:Araw ng Kalayaan: Flag Raising Ceremony
DESCRIPTION:Join us for a momentous occasion! The Filipino Social Club in Dubai\, in partnership with Majid Al Futtaim’s Deira City Centre\, invites you to our Flag Raising Ceremony tomorrow\, June 12\, 2025\, at 3:00 PM!Let’s come together to celebrate our heritage and national pride with a special program graced by distinguished guests:* His Excellency Ambassador Alfonso Ferdinand A. Ver\, The Philippine Ambassador to the UAE* Hon. Marford M. Angeles\, The Philippine Consul General in Dubai* Atty. John Rio Bautista\, Labor Attaché of the Migrant Workers Office* And of course\, our very own enthusiastic Filipino Community Leaders of the Filipino Social Club\, headed by Mr. Ericson Reyes!Prepare to be amazed by the vibrant colors and spectacular parade of the Drum and Lyre Corps from the most outstanding Filipino Schools in the UAE:* Far Eastern Private School – Halwan Branch* New Filipino Private School Drum and Lyre!Come and enjoy the festivity\, mga Kababayan! Let’s make this a truly memorable event for our community.See you there!
URL:https://filipinosocialclub.org/event/araw-ng-kalayaan-flag-raising-ceremony/
LOCATION:Deira City Centre\, Dubai
CATEGORIES:In Partnership Events
ATTACH;FMTTYPE=image/jpeg:https://filipinosocialclub.org/wp-content/uploads/2026/04/flag-at-dcc.jpg
END:VEVENT
BEGIN:VEVENT
DTSTART;TZID=UTC:20250406T130000
DTEND;TZID=UTC:20250406T170000
DTSTAMP:20260423T144104
CREATED:20260421T203908Z
LAST-MODIFIED:20260421T203908Z
UID:1035-1743944400-1743958800@filipinosocialclub.org
SUMMARY:Community Gift-Giving
DESCRIPTION:Para sa minamahal na kasambahay\, yaya\, driver\, senior citizens\, at persons with disabilities. Ang Filipino Social Club\, katuwang ang The Surpluss at sa suporta ng Brand GPU Cargo\, ay masayang nagbabalita ng espesyal na Pamamahagi ng Regalo sa Komunidad!Kailan: Linggo\, Abril 6\, 2025 ala una ng haponSaan: Migrant Workers Office DubaiAng kaganapang ito ay nakatuon sa ating mga minamahal na kasambahay\, yaya\, driver\, senior citizens\, at persons with disabilities. Nais naming ipakita ang aming pagpapahalaga at magbahagi ng kasiyahan!Kung ikaw ay nabibilang sa alinman sa mga kategoryang ito\, malugod kang inaanyayahang tumanggap ng espesyal na regalo.Mangyaring magparehistro nang maaga sa pamamagitan ng link na ito: https://forms.gle/f7YiB1GBmNK9yZfH9Inaasahan naming makita kayo doon at ibahagi ang espesyal na sandaling ito sa inyo!
URL:https://filipinosocialclub.org/event/community-gift-giving/
LOCATION:Migrant Worker’s Office (MWO)\, Dubai
CATEGORIES:In Partnership Events
ATTACH;FMTTYPE=image/jpeg:https://filipinosocialclub.org/wp-content/uploads/2026/04/gift.jpg
END:VEVENT
BEGIN:VEVENT
DTSTART;TZID=UTC:20241130T090000
DTEND;TZID=UTC:20241130T120000
DTSTAMP:20260423T144104
CREATED:20260421T210907Z
LAST-MODIFIED:20260421T210907Z
UID:1061-1732957200-1732968000@filipinosocialclub.org
SUMMARY:Idulog Mo Kay Atorni
DESCRIPTION:We are inviting everyone to a Free Legal Consultation for Overseas Filipino Workers in Dubai!The forthcoming activity of the Integrated Bar of the Philippines (IBP) Makati Chapter is in cooperation with the Philippine Consulate General in Dubai\, the Migrant Workers Office Dubai\, and the Filipino Social Club.Date: November 30\, 2024 (Saturday)Time: 9:00 AM to 12 NNVenue: Luzon Hall\, Migrant Workers Office.First 100 slots\, First Come\, First Served only. Please register on or before November 25.Click here: https://forms.gle/qBWkqdngc1FXpvSG6To ensure smooth facilitation\, attendees are encouraged to bring any relevant documents related to their legal inquiries\, if applicable.Any questions\, please call Mr. Christian at +971 56 458 8551
URL:https://filipinosocialclub.org/event/idulog-mo-kay-atorni/
CATEGORIES:In Partnership Events
ATTACH;FMTTYPE=image/jpeg:https://filipinosocialclub.org/wp-content/uploads/2026/04/idulog.jpg
END:VEVENT
BEGIN:VEVENT
DTSTART;TZID=UTC:20241027T133000
DTEND;TZID=UTC:20241027T160000
DTSTAMP:20260423T144104
CREATED:20260421T211752Z
LAST-MODIFIED:20260421T211752Z
UID:1067-1730035800-1730044800@filipinosocialclub.org
SUMMARY:Filipino Community Townhall Meeting: Contract Verification Online na!
DESCRIPTION:Mᴇᴇᴛɪɴɢ Iɴᴠɪᴛᴀᴛɪᴏɴ ᴛᴏ Aʟʟ Fɪʟɪᴘɪɴᴏ Gʀᴏᴜᴘs𝖥𝗂𝗅𝗂𝗉𝗂𝗇𝗈 𝖢𝗈𝗆𝗆𝗎𝗇𝗂𝗍𝗒 𝐓𝐨𝐰𝐧 𝐇𝐚𝐥𝐥 𝖬𝖾𝖾𝗍𝗂𝗇𝗀𝐓𝐨𝐩𝐢𝐜: 𝐂𝐨𝐧𝐭𝐫𝐚𝐜𝐭 𝐕𝐞𝐫𝐢𝐟𝐢𝐜𝐚𝐭𝐢𝐨𝐧\, 𝐎𝐧𝐥𝐢𝐧𝐞 𝐍𝐚!𝐃ᴀᴛᴇ: 𝐎𝐜𝐭𝐨𝐛𝐞𝐫 𝟐𝟕\, 𝟐𝟎𝟐𝟒 (𝐒ᴜɴᴅᴀʏ)𝐕ᴇɴᴜᴇ: 𝐋ᴜᴢᴏɴ 𝐇ᴀʟʟ\, 𝐌ɪɢʀᴀɴᴛ 𝐖ᴏʀᴋᴇʀ𝐬 𝐎𝐟𝐟𝐢𝐜𝐞𝐓ɪᴍᴇ: 𝟏:𝟑𝟎 𝐏𝐌𝐖𝐞 𝐚𝐫𝐞 𝐩𝐥𝐞𝐚𝐬𝐞𝐝 𝐭𝐨 𝐢𝐧𝐟𝐨𝐫𝐦 𝐲𝐨𝐮 𝐭𝐡𝐚𝐭 𝐚𝐬 𝐩𝐚𝐫𝐭 𝐨𝐟 𝐌𝐢𝐠𝐫𝐚𝐧𝐭 𝐖𝐨𝐫𝐤𝐞𝐫𝐬 𝐎𝐟𝐟𝐢𝐜𝐞-𝐃𝐮𝐛𝐚𝐢’𝐬 𝐜𝐨𝐦𝐦𝐢𝐭𝐦𝐞𝐧𝐭 𝐭𝐨 𝐢𝐦𝐩𝐫𝐨𝐯𝐞 𝐭𝐡𝐞 𝐝𝐞𝐥𝐢𝐯𝐞𝐫𝐲 𝐨𝐟 𝐭𝐡𝐞𝐢𝐫 𝐬𝐞𝐫𝐯𝐢𝐜𝐞𝐬 𝐚𝐧𝐝 𝐦𝐚𝐤𝐞 𝐩𝐫𝐨𝐜𝐞𝐬𝐬𝐞𝐬 𝐞𝐚𝐬𝐢𝐞𝐫 𝐟𝐨𝐫 𝐎𝐯𝐞𝐫𝐬𝐞𝐚𝐬 𝐅𝐢𝐥𝐢𝐩𝐢𝐧𝐨 𝐖𝐨𝐫𝐤𝐞𝐫𝐬 (𝐎𝐅𝐖𝐬) 𝐢𝐧 𝐃𝐮𝐛𝐚𝐢 𝐚𝐧𝐝 𝐍𝐨𝐫𝐭𝐡𝐞𝐫𝐧 𝐄𝐦𝐢𝐫𝐚𝐭𝐞𝐬\, 𝐭𝐡𝐞𝐲 𝐚𝐫𝐞 𝐜𝐮𝐫𝐫𝐞𝐧𝐭𝐥𝐲 𝐢𝐧 𝐭𝐡𝐞 𝐩𝐫𝐨𝐜𝐞𝐬𝐬 𝐨𝐟 𝐟𝐢𝐧𝐚𝐥𝐢𝐳𝐢𝐧𝐠 𝐚 𝐟𝐮𝐥𝐥-𝐜𝐲𝐜𝐥𝐞 𝐨𝐧𝐥𝐢𝐧𝐞 𝐜𝐨𝐧𝐭𝐫𝐚𝐜𝐭 𝐯𝐞𝐫𝐢𝐟𝐢𝐜𝐚𝐭𝐢𝐨𝐧 𝐬𝐲𝐬𝐭𝐞𝐦 𝐰𝐡𝐢𝐜𝐡 𝐰𝐨𝐮𝐥𝐝 𝐚𝐥𝐥𝐨𝐰 𝐎𝐅𝐖𝐬 𝐭𝐨 𝐚𝐩𝐩𝐥𝐲 𝐟𝐨𝐫 𝐜𝐨𝐧𝐭𝐫𝐚𝐜𝐭 𝐯𝐞𝐫𝐢𝐟𝐢𝐜𝐚𝐭𝐢𝐨𝐧 𝐨𝐧𝐥𝐢𝐧𝐞 𝐚𝐧𝐝 𝐜𝐨𝐦𝐩𝐥𝐞𝐭𝐞 𝐭𝐡𝐞 𝐩𝐫𝐨𝐜𝐞𝐬𝐬 𝐮𝐬𝐢𝐧𝐠 𝐚 𝐛𝐮𝐢𝐥𝐭-𝐢𝐧 𝐨𝐧𝐥𝐢𝐧𝐞 𝐩𝐚𝐲𝐦𝐞𝐧𝐭 𝐟𝐚𝐜𝐢𝐥𝐢𝐭𝐲. 𝐓𝐡𝐢𝐬 𝐢𝐬 𝐚𝐧 𝐮𝐩𝐠𝐫𝐚𝐝𝐞 𝐭𝐨 𝐭𝐡𝐞𝐢𝐫 𝐞𝐱𝐢𝐬𝐭𝐢𝐧𝐠 𝐨𝐧𝐥𝐢𝐧𝐞 𝐬𝐮𝐛𝐦𝐢𝐬𝐬𝐢𝐨𝐧 𝐬𝐲𝐬𝐭𝐞𝐦 𝐟𝐨𝐫 𝐜𝐨𝐧𝐭𝐫𝐚𝐜𝐭 𝐯𝐞𝐫𝐢𝐟𝐢𝐜𝐚𝐭𝐢𝐨𝐧 𝐰𝐡𝐢𝐜𝐡 𝐨𝐟𝐟𝐞𝐫𝐬 𝐚𝐧 𝐨𝐧𝐥𝐢𝐧𝐞 𝐬𝐮𝐛𝐦𝐢𝐬𝐬𝐢𝐨𝐧 𝐟𝐚𝐜𝐢𝐥𝐢𝐭𝐲 𝐚𝐧𝐝 𝐨𝐧𝐬𝐢𝐭𝐞 𝐩𝐚𝐲𝐦𝐞𝐧𝐭 𝐚𝐧𝐝 𝐜𝐨𝐥𝐥𝐞𝐜𝐭𝐢𝐨𝐧 𝐨𝐟 𝐯𝐞𝐫𝐢𝐟𝐢𝐞𝐝 𝐝𝐨𝐜𝐮𝐦𝐞𝐧𝐭𝐬. 𝐈𝐧 𝐭𝐡𝐞 𝐧𝐞𝐰 𝐬𝐲𝐬𝐭𝐞𝐦 𝐰𝐡𝐢𝐜𝐡 𝐢𝐬 𝐛𝐞𝐢𝐧𝐠 𝐝𝐞𝐯𝐞𝐥𝐨𝐩𝐞𝐝 𝐛𝐲 𝐚𝐧 𝐞𝐱𝐭𝐞𝐫𝐧𝐚𝐥 𝐈𝐓 𝐩𝐫𝐨𝐯𝐢𝐝𝐞𝐫 𝐢𝐧 𝐜𝐨𝐨𝐩𝐞𝐫𝐚𝐭𝐢𝐨𝐧 𝐰𝐢𝐭𝐡 𝐭𝐡𝐞 𝐃𝐞𝐩𝐚𝐫𝐭𝐦𝐞𝐧𝐭 𝐨𝐟 𝐌𝐢𝐠𝐫𝐚𝐧𝐭 𝐖𝐨𝐫𝐤𝐞𝐫𝐬\, 𝐰𝐨𝐫𝐤𝐞𝐫𝐬 𝐰𝐢𝐥𝐥 𝐧𝐨 𝐥𝐨𝐧𝐠𝐞𝐫 𝐡𝐚𝐯𝐞 𝐭𝐨 𝐯𝐢𝐬𝐢𝐭 𝐌𝐖𝐎-𝐃𝐮𝐛𝐚𝐢 𝐟𝐨𝐫 𝐜𝐨𝐧𝐭𝐫𝐚𝐜𝐭 𝐯𝐞𝐫𝐢𝐟𝐢𝐜𝐚𝐭𝐢𝐨𝐧\, 𝐭𝐡𝐞𝐫𝐞𝐛𝐲 𝐬𝐚𝐯𝐢𝐧𝐠 𝐭𝐡𝐞𝐢𝐫 𝐭𝐢𝐦𝐞\, 𝐞𝐟𝐟𝐨𝐫𝐭\, 𝐚𝐧𝐝 𝐟𝐢𝐧𝐚𝐧𝐜𝐢𝐚𝐥 𝐫𝐞𝐬𝐨𝐮𝐫𝐜𝐞𝐬.Rᴇɢɪsᴛᴇʀ ʏᴏᴜʀ Aᴛᴛᴇɴᴅᴀɴᴄᴇ:https://forms.gle/ESyM1Zko9mGkkGaaA
URL:https://filipinosocialclub.org/event/filipino-community-townhall-meeting-contract-verification-online-na/
LOCATION:Migrant Worker’s Office (MWO)\, Dubai
CATEGORIES:In Partnership Events
ATTACH;FMTTYPE=image/jpeg:https://filipinosocialclub.org/wp-content/uploads/2026/04/contract.jpg
END:VEVENT
BEGIN:VEVENT
DTSTART;VALUE=DATE:20241020
DTEND;VALUE=DATE:20241021
DTSTAMP:20260423T144104
CREATED:20260421T212155Z
LAST-MODIFIED:20260421T212155Z
UID:1070-1729382400-1729468799@filipinosocialclub.org
SUMMARY:Dubai Filipino Community Leaders Tour
DESCRIPTION:Leaders of the Filipino Community in Dubai. Special viewing of the Philippine Gold Articrafts on Exhibit at the Louvre Museum Abu Dhabi on October 20\, 2024 (Sunday).Other Places to visit:1. Philippine Embassy2. ⁠Abrahamic Family HouseSpecial Thanks to our Philippine Embassy in the UAE and the Philippine Consulate General in DubaiContact Mr. Christian +971 56 458 8551.
URL:https://filipinosocialclub.org/event/dubai-filipino-community-leaders-tour/
LOCATION:Louvre Abu Dhabi
CATEGORIES:In Partnership Events
ATTACH;FMTTYPE=image/jpeg:https://filipinosocialclub.org/wp-content/uploads/2026/04/culture.jpg
END:VEVENT
BEGIN:VEVENT
DTSTART;TZID=UTC:20241012T130000
DTEND;TZID=UTC:20241012T170000
DTSTAMP:20260423T144104
CREATED:20260421T212629Z
LAST-MODIFIED:20260421T212629Z
UID:1074-1728738000-1728752400@filipinosocialclub.org
SUMMARY:FilSoc & FKC Jewelry Making Workshop
DESCRIPTION:A one-day Jewelry Making Workshop organized by the Filipino Social Club and the Filipino Kasambahay Club at the Migrant Workers Office – Dubai and Northern Emirates. \n  \nDate: 12th October 2024 \nTime: 1:00 PM to 5:00 PM \nVenue: MWO Dubai
URL:https://filipinosocialclub.org/event/filsoc-fkc-jewelry-making-workshop/
LOCATION:Migrant Worker’s Office (MWO)\, Dubai
CATEGORIES:In Partnership Events
ATTACH;FMTTYPE=image/jpeg:https://filipinosocialclub.org/wp-content/uploads/2026/04/jewelry.jpg
END:VEVENT
BEGIN:VEVENT
DTSTART;TZID=UTC:20240921T100000
DTEND;TZID=UTC:20240921T130000
DTSTAMP:20260423T144104
CREATED:20260421T213302Z
LAST-MODIFIED:20260421T213302Z
UID:1080-1726912800-1726923600@filipinosocialclub.org
SUMMARY:FilSoc & FKC Flower Arrangement Workshop
DESCRIPTION:Flower Arrangement Workshop for the Filipino Kasambahay Club in collaboration with the Filipino Social Club Board Member Cecilia Leoparte and Secretary Christian Belleza.\n\n\n\nThank you to:\nMigrant Workers Office – Dubai and Northern Emirates\nJRS Express
URL:https://filipinosocialclub.org/event/filsoc-fkc-flower-arrangement-workshop/
LOCATION:Migrant Worker’s Office (MWO)\, Dubai
CATEGORIES:In Partnership Events
ATTACH;FMTTYPE=image/jpeg:https://filipinosocialclub.org/wp-content/uploads/2026/04/flower.jpg
END:VEVENT
END:VCALENDAR