BEGIN:VCALENDAR
VERSION:2.0
PRODID:-//Filipino Social Club - ECPv6.13.2.1//NONSGML v1.0//EN
CALSCALE:GREGORIAN
METHOD:PUBLISH
X-ORIGINAL-URL:https://filipinosocialclub.org
X-WR-CALDESC:Events for Filipino Social Club
REFRESH-INTERVAL;VALUE=DURATION:PT1H
X-Robots-Tag:noindex
X-PUBLISHED-TTL:PT1H
BEGIN:VTIMEZONE
TZID:UTC
BEGIN:STANDARD
TZOFFSETFROM:+0000
TZOFFSETTO:+0000
TZNAME:UTC
DTSTART:20250101T000000
END:STANDARD
END:VTIMEZONE
BEGIN:VEVENT
DTSTART;TZID=UTC:20251018T080000
DTEND;TZID=UTC:20251018T170000
DTSTAMP:20260423T235614
CREATED:20260421T191612Z
LAST-MODIFIED:20260421T191612Z
UID:992-1760774400-1760806800@filipinosocialclub.org
SUMMARY:Barista & Pastry Baking (Free Training)
DESCRIPTION:𝗧𝗵𝗿𝗼𝘂𝗴𝗵 𝘁𝗵𝗲 𝗶𝗻𝗶𝘁𝗶𝗮𝘁𝗶𝘃𝗲 𝗼𝗳 𝗢𝗪𝗪𝗔\, 𝘄𝗲 𝗮𝗿𝗲 𝗽𝗹𝗲𝗮𝘀𝗲𝗱 𝘁𝗼 𝗼𝗳𝗳𝗲𝗿 𝗮 𝗙𝗥𝗘𝗘 𝗧𝗿𝗮𝗶𝗻𝗶𝗻𝗴 𝗼𝗻 𝗕𝗮𝗿𝗶𝘀𝘁𝗮 𝗮𝗻𝗱 𝗣𝗮𝘀𝘁𝗿𝘆 𝗕𝗮𝗸𝗶𝗻𝗴.𝗗𝗮𝘁𝗲: 𝗢𝗰𝘁𝗼𝗯𝗲𝗿 𝟭𝟴 (𝗦𝗮𝘁𝘂𝗿𝗱𝗮𝘆)𝗧𝗶𝗺𝗲: 𝟴:𝟬𝟬 𝗔𝗠 𝘁𝗼 𝟱:𝟬𝟬 𝗣𝗠𝗩𝗲𝗻𝘂𝗲: 𝗠𝗶𝗴𝗿𝗮𝗻𝘁 𝗪𝗼𝗿𝗸𝗲𝗿𝘀 𝗢𝗳𝗳𝗶𝗰𝗲 (𝗠𝗪𝗢)\, 𝗔𝗹 𝗤𝘂𝘀𝗮𝗶𝘀.𝗢𝗽𝗲𝗻 𝘁𝗼 𝗮𝗹𝗹 𝗙𝗜𝗟𝗦𝗢𝗖 𝗮𝗰𝘁𝗶𝘃𝗲 𝗢𝗪𝗪𝗔 𝗺𝗲𝗺𝗯𝗲𝗿𝘀 𝗼𝗻𝗹𝘆.𝗧𝗼 𝗷𝗼𝗶𝗻\, 𝗽𝗹𝗲𝗮𝘀𝗲 𝗿𝗲𝗴𝗶𝘀𝘁𝗲𝗿 𝘁𝗵𝗿𝗼𝘂𝗴𝗵 𝘁𝗵𝗲 𝗹𝗶𝗻𝗸 𝗯𝗲𝗹𝗼𝘄:  https://forms.gle/QZQWrCQpo17PaekdA𝗗𝗼𝗻’𝘁 𝗺𝗶𝘀𝘀 𝘁𝗵𝗶𝘀 𝗼𝗽𝗽𝗼𝗿𝘁𝘂𝗻𝗶𝘁𝘆 𝘁𝗼 𝗹𝗲𝗮𝗿𝗻 𝗻𝗲𝘄 𝘀𝗸𝗶𝗹𝗹𝘀 𝗳𝗼𝗿 𝗳𝗿𝗲𝗲
URL:https://filipinosocialclub.org/event/barista-pastry-baking-free-training/
LOCATION:Migrant Worker’s Office (MWO)\, Dubai
CATEGORIES:In Partnership Events
ATTACH;FMTTYPE=image/jpeg:https://filipinosocialclub.org/wp-content/uploads/2026/04/training.jpg
END:VEVENT
END:VCALENDAR