BEGIN:VCALENDAR
VERSION:2.0
PRODID:-//Filipino Social Club - ECPv6.13.2.1//NONSGML v1.0//EN
CALSCALE:GREGORIAN
METHOD:PUBLISH
X-ORIGINAL-URL:https://filipinosocialclub.org
X-WR-CALDESC:Events for Filipino Social Club
REFRESH-INTERVAL;VALUE=DURATION:PT1H
X-Robots-Tag:noindex
X-PUBLISHED-TTL:PT1H
BEGIN:VTIMEZONE
TZID:UTC
BEGIN:STANDARD
TZOFFSETFROM:+0000
TZOFFSETTO:+0000
TZNAME:UTC
DTSTART:20210101T000000
END:STANDARD
END:VTIMEZONE
BEGIN:VEVENT
DTSTART;TZID=UTC:20250515T080000
DTEND;TZID=UTC:20250515T233000
DTSTAMP:20260423T144552
CREATED:20260421T202347Z
LAST-MODIFIED:20260421T202347Z
UID:1022-1747296000-1747351800@filipinosocialclub.org
SUMMARY:Gawad Pinoy 2025
DESCRIPTION:The prestigious Gawad Pinoy 2025 Nominees’ Validation is set for May 17\, 2025. \nNominations remain open until May 15.This is your opportunity to honour your local champions—individuals\, groups\, or accredited organisations—who have made significant contributions to the community.Nominations are welcome from FilSoc-accredited organisations\, community groups\, partners\, and volunteers. Don’t miss the chance to recognize excellence and inspire others.Submit your nominations today and be part of celebrating Filipino excellence. \nPlease click the following link to nominate: https://forms.gle/jDJZsMjCXqo8ELZY7
URL:https://filipinosocialclub.org/event/gawad-pinoy-2025/
CATEGORIES:FilSoc Events
ATTACH;FMTTYPE=image/jpeg:https://filipinosocialclub.org/wp-content/uploads/2026/04/gawad-1.jpg
END:VEVENT
BEGIN:VEVENT
DTSTART;TZID=UTC:20250420T140000
DTEND;TZID=UTC:20250420T170000
DTSTAMP:20260423T144552
CREATED:20260421T203104Z
LAST-MODIFIED:20260421T203104Z
UID:1028-1745157600-1745168400@filipinosocialclub.org
SUMMARY:Filipino Community Leaders Meeting
DESCRIPTION:Calling All Filipino Community Group Leaders and Officers! We cordially invite all dedicated Filipino community leaders and officers to an important gathering this coming Sunday\, April 20th\, at the Migrant Workers Office.Let’s come together to connect\, collaborate\, and discuss matters vital to our vibrant Filipino community here in Dubai. Your presence and insights are invaluable as we continue to strengthen our unity and support for one another. Date: Sunday\, April 20th Time: 2:00 PM onwards Venue: Migrant Workers Office (Dubai)We look forward to a productive and meaningful afternoon with all of you. Please make every effort to attend.Mabuhay!
URL:https://filipinosocialclub.org/event/filipino-community-leaders-meeting-2/
LOCATION:Migrant Worker’s Office (MWO)\, Dubai
CATEGORIES:FilSoc Events
ATTACH;FMTTYPE=image/jpeg:https://filipinosocialclub.org/wp-content/uploads/2026/04/filcom-meet.jpg
END:VEVENT
BEGIN:VEVENT
DTSTART;TZID=UTC:20250418T170000
DTEND;TZID=UTC:20250418T200000
DTSTAMP:20260423T144552
CREATED:20260421T203453Z
LAST-MODIFIED:20260421T203453Z
UID:1031-1744995600-1745006400@filipinosocialclub.org
SUMMARY:Blood Donation Campaign
DESCRIPTION:Blood Donation Campaign: Together We Can Save Lives!In line with the Year of Community\, the Filipino Social Club invites you to join us for a Blood Donation Campaign on Friday\, April 18\, 2025.Let’s come together and make a life-changing impact by donating blood to help those in need.  Date: April 18\, 2025 (Friday) Time: 5:00 PM – 8:00 PM Location: Blood Donation Center (New) DHA\, Al Jaddaf\, DubaiYour small act of kindness can save lives. As we celebrate the Year of Community\, let’s show the power of bayanihan (community spirit) by coming together to make a difference. Every drop counts!Register: https://forms.gle/qG4o1RFpmJb2JSHn9Learn More: https://chat.whatsapp.com/BScinva7VA0DnmO29KJfNW
URL:https://filipinosocialclub.org/event/blood-donation-campaign/
LOCATION:Blood Donation Centre (New) DHA\, Al Jaddaf\, Dubai
CATEGORIES:FilSoc Events
ATTACH;FMTTYPE=image/jpeg:https://filipinosocialclub.org/wp-content/uploads/2026/04/blood.jpg
END:VEVENT
BEGIN:VEVENT
DTSTART;TZID=UTC:20250329T140000
DTEND;TZID=UTC:20250329T200000
DTSTAMP:20260423T144552
CREATED:20260421T204433Z
LAST-MODIFIED:20260421T204433Z
UID:1038-1743256800-1743278400@filipinosocialclub.org
SUMMARY:Filipinas in Dubai Season 2
DESCRIPTION:“𝗛𝗲𝗿 𝗦𝘁𝗼𝗿𝘆\, 𝗛𝗲𝗿 𝗣𝗼𝘄𝗲𝗿” 𝗶𝘀 𝗮 𝗰𝗲𝗹𝗲𝗯𝗿𝗮𝘁𝗶𝗼𝗻 𝗼𝗳 𝗬𝗢𝗨 – 𝘁𝗵𝗲 𝗙𝗶𝗹𝗶𝗽𝗶𝗻𝗮 𝘄𝗵𝗼 𝗱𝗮𝗿𝗲𝘀 𝘁𝗼 𝗱𝗿𝗲𝗮𝗺\, 𝘁𝗼 𝗿𝗶𝘀𝗲\, 𝗮𝗻𝗱 𝘁𝗼 𝗶𝗻𝘀𝗽𝗶𝗿𝗲. 𝗙𝗜𝗟𝗜𝗣𝗜𝗡𝗔𝗦! 𝗶𝗻 𝗗𝘂𝗯𝗮𝗶 𝗔𝗿𝗲 𝘆𝗼𝘂 𝗥𝗲𝗮𝗱𝘆?𝖨𝗌𝖺𝗇𝗀 𝗆𝖺𝗅𝖺𝗄𝗂𝗇𝗀 𝗉𝖺𝗀𝗍𝗂𝗍𝗂𝗉𝗈𝗇 𝗉𝖺𝗋𝖺 𝗌𝖺 𝗆𝗀𝖺 𝙆𝙖𝙗𝙖𝙗𝙖𝙞𝙝𝙖𝙣𝙜 𝙊𝙁𝙒𝙨!𝗖𝗼𝗻𝗻𝗲𝗰𝘁 𝘄𝗶𝘁𝗵 𝘁𝗵𝗲 𝗕𝗜𝗚𝗚𝗘𝗦𝗧 𝗴𝗮𝘁𝗵𝗲𝗿𝗶𝗻𝗴 𝗼𝗳 𝗙𝗶𝗹𝗶𝗽𝗶𝗻𝗮𝘀 𝘄𝗼𝗿𝗸𝗶𝗻𝗴 𝗮𝗯𝗿𝗼𝗮𝗱! 𝗧𝗵𝗲 𝗙𝗶𝗹𝗶𝗽𝗶𝗻𝗼 𝗦𝗼𝗰𝗶𝗮𝗹 𝗖𝗹𝘂𝗯 𝗽𝗿𝗼𝘂𝗱𝗹𝘆 𝗽𝗿𝗲𝘀𝗲𝗻𝘁𝘀 𝗙𝗜𝗟𝗜𝗣𝗜𝗡𝗔𝗦 𝗶𝗻 𝗗𝘂𝗯𝗮𝗶 𝗦𝗲𝗮𝘀𝗼𝗻 𝟮\, 𝗮 𝗽𝗼𝘄𝗲𝗿𝗳𝘂𝗹 𝘁𝗿𝗶𝗯𝘂𝘁𝗲 𝘁𝗼 𝘁𝗵𝗲 𝘀𝘁𝗿𝗲𝗻𝗴𝘁𝗵\, 𝗿𝗲𝘀𝗶𝗹𝗶𝗲𝗻𝗰𝗲\, 𝗮𝗻𝗱 𝘂𝗻𝘄𝗮𝘃𝗲𝗿𝗶𝗻𝗴 𝘀𝗽𝗶𝗿𝗶𝘁 𝗼𝗳 𝗙𝗶𝗹𝗶𝗽𝗶𝗻𝗮 𝘄𝗼𝗺𝗲𝗻\, 𝗶𝗻 𝗵𝗼𝗻𝗼𝗿 𝗼𝗳 𝗜𝗻𝘁𝗲𝗿𝗻𝗮𝘁𝗶𝗼𝗻𝗮𝗹 𝗪𝗼𝗺𝗲𝗻’𝘀 𝗠𝗼𝗻𝘁𝗵.𝗧𝗵𝗶𝘀 𝘆𝗲𝗮𝗿’𝘀 𝘁𝗵𝗲𝗺𝗲\, “𝗛𝗲𝗿 𝗦𝘁𝗼𝗿𝘆\, 𝗛𝗲𝗿 𝗣𝗼𝘄𝗲𝗿\,” 𝘄𝗶𝗹𝗹 𝗶𝗹𝗹𝘂𝗺𝗶𝗻𝗮𝘁𝗲 𝘁𝗵𝗲 𝗿𝗲𝗺𝗮𝗿𝗸𝗮𝗯𝗹𝗲 𝗷𝗼𝘂𝗿𝗻𝗲𝘆𝘀 𝗼𝗳 𝘄𝗼𝗺𝗲𝗻 𝘄𝗵𝗼 𝗶𝗻𝘀𝗽𝗶𝗿𝗲\, 𝘂𝗽𝗹𝗶𝗳𝘁\, 𝗮𝗻𝗱 𝘁𝗿𝗮𝗻𝘀𝗳𝗼𝗿𝗺 𝗹𝗶𝘃𝗲𝘀.𝗪𝗶𝘁𝗻𝗲𝘀𝘀 𝘁𝗵𝗲 𝗰𝗮𝗽𝘁𝗶𝘃𝗮𝘁𝗶𝗻𝗴 𝘀𝘁𝗼𝗿𝗶𝗲𝘀 𝗼𝗳: 𝗧𝗿𝗮𝗶𝗹𝗯𝗹𝗮𝘇𝗶𝗻𝗴 𝗕𝘂𝘀𝗶𝗻𝗲𝘀𝘀𝘄𝗼𝗺𝗲𝗻: 𝗛𝗲𝗮𝗿 𝘁𝗵𝗲𝗶𝗿 𝘀𝗲𝗰𝗿𝗲𝘁𝘀 𝘁𝗼 𝘀𝘂𝗰𝗰𝗲𝘀𝘀 𝗮𝗻𝗱 𝗵𝗼𝘄 𝘁𝗵𝗲𝘆’𝘃𝗲 𝘀𝗵𝗮𝘁𝘁𝗲𝗿𝗲𝗱 𝗴𝗹𝗮𝘀𝘀 𝗰𝗲𝗶𝗹𝗶𝗻𝗴𝘀. 𝗩𝗶𝘀𝗶𝗼𝗻𝗮𝗿𝘆 𝗔𝗿𝘁𝗶𝘀𝘁𝘀: 𝗕𝗲 𝗺𝗼𝘃𝗲𝗱 𝗯𝘆 𝘁𝗵𝗲𝗶𝗿 𝗰𝗿𝗲𝗮𝘁𝗶𝘃𝗲 𝗲𝘅𝗽𝗿𝗲𝘀𝘀𝗶𝗼𝗻𝘀 𝗮𝗻𝗱 𝘁𝗵𝗲 𝗽𝗼𝘄𝗲𝗿 𝗼𝗳 𝗮𝗿𝘁 𝘁𝗼 𝗶𝗻𝘀𝗽𝗶𝗿𝗲. 𝗗𝘆𝗻𝗮𝗺𝗶𝗰 𝗣𝘂𝗯𝗹𝗶𝗰 𝗦𝗽𝗲𝗮𝗸𝗲𝗿𝘀: 𝗟𝗲𝗮𝗿𝗻 𝗵𝗼𝘄 𝘁𝗼 𝗮𝗺𝗽𝗹𝗶𝗳𝘆 𝘆𝗼𝘂𝗿 𝘃𝗼𝗶𝗰𝗲 𝗮𝗻𝗱 𝗺𝗮𝗸𝗲 𝗮 𝗹𝗮𝘀𝘁𝗶𝗻𝗴 𝗶𝗺𝗽𝗮𝗰𝘁. 𝗗𝗶𝗽𝗹𝗼𝗺𝗮𝘁𝗶𝗰 𝗟𝗼𝘃𝗲 𝗦𝘁𝗼𝗿𝗶𝗲𝘀: 𝗗𝗶𝘀𝗰𝗼𝘃𝗲𝗿 𝘁𝗵𝗲 𝘀𝘁𝗿𝗲𝗻𝗴𝘁𝗵 𝗮𝗻𝗱 𝗽𝗮𝗿𝘁𝗻𝗲𝗿𝘀𝗵𝗶𝗽 𝘁𝗵𝗮𝘁 𝗯𝗿𝗶𝗱𝗴𝗲𝘀 𝗻𝗮𝘁𝗶𝗼𝗻𝘀. 𝗧𝗿𝗶𝘂𝗺𝗽𝗵𝗮𝗻𝘁 𝗧𝗲𝘀𝘁𝗶𝗺𝗼𝗻𝗶𝗲𝘀 𝗼𝗳 𝗙𝗮𝗶𝘁𝗵: 𝗕𝗲 𝗶𝗻𝘀𝗽𝗶𝗿𝗲𝗱 𝗯𝘆 𝘀𝘁𝗼𝗿𝗶𝗲𝘀 𝗼𝗳 𝗿𝗲𝘀𝗶𝗹𝗶𝗲𝗻𝗰𝗲 𝗮𝗻𝗱 𝗱𝗶𝘃𝗶𝗻𝗲 𝗴𝗿𝗮𝗰𝗲 𝗱𝘂𝗿𝗶𝗻𝗴 𝗮𝗱𝘃𝗲𝗿𝘀𝗶𝘁𝘆. 𝗘𝗺𝗽𝗼𝘄𝗲𝗿𝗶𝗻𝗴 𝗝𝗼𝘂𝗿𝗻𝗲𝘆𝘀 𝗼𝗳 𝗛𝗼𝘂𝘀𝗲𝗵𝗼𝗹𝗱 𝗪𝗼𝗿𝗸𝗲𝗿𝘀: 𝗪𝗶𝘁𝗻𝗲𝘀𝘀 𝘁𝗵𝗲 𝗲𝘅𝘁𝗿𝗮𝗼𝗿𝗱𝗶𝗻𝗮𝗿𝘆 𝗽𝗼𝘄𝗲𝗿 𝗼𝗳 𝗱𝗲𝘁𝗲𝗿𝗺𝗶𝗻𝗮𝘁𝗶𝗼𝗻 𝗮𝗻𝗱 𝗱𝗿𝗲𝗮𝗺𝘀.𝗪𝗲 𝘄𝗶𝗹𝗹 𝗮𝗹𝘀𝗼 𝗯𝗲 𝗵𝗼𝗻𝗼𝗿𝗶𝗻𝗴 𝗢𝘂𝘁𝘀𝘁𝗮𝗻𝗱𝗶𝗻𝗴 𝗙𝗶𝗹𝗶𝗽𝗶𝗻𝗮𝘀 𝘄𝗵𝗼 𝗵𝗮𝘃𝗲 𝗺𝗮𝗱𝗲 𝘀𝗶𝗴𝗻𝗶𝗳𝗶𝗰𝗮𝗻𝘁 𝗰𝗼𝗻𝘁𝗿𝗶𝗯𝘂𝘁𝗶𝗼𝗻𝘀 𝘁𝗼 𝗼𝘂𝗿 𝗰𝗼𝗺𝗺𝘂𝗻𝗶𝘁𝘆\, 𝗿𝗲𝗰𝗼𝗴𝗻𝗶𝘇𝗶𝗻𝗴 𝘁𝗵𝗲𝗶𝗿 𝗿𝗲𝗺𝗮𝗿𝗸𝗮𝗯𝗹𝗲 𝗮𝗰𝗵𝗶𝗲𝘃𝗲𝗺𝗲𝗻𝘁𝘀 𝗮𝗻𝗱 𝗶𝗻𝘀𝗽𝗶𝗿𝗶𝗻𝗴 𝗼𝘁𝗵𝗲𝗿𝘀 𝘁𝗼 𝗳𝗼𝗹𝗹𝗼𝘄 𝘁𝗵𝗲𝗶𝗿 𝗹𝗲𝗮𝗱. 𝗦𝗵𝗮𝗿𝗲 𝘁𝗵𝗶𝘀 𝗽𝗼𝘀𝘁 𝗮𝗻𝗱 𝗶𝗻𝘃𝗶𝘁𝗲 𝗲𝘃𝗲𝗿𝘆 𝗙𝗶𝗹𝗶𝗽𝗶𝗻𝗮 𝘆𝗼𝘂 𝗸𝗻𝗼𝘄! 𝗟𝗲𝘁’𝘀 𝗰𝗲𝗹𝗲𝗯𝗿𝗮𝘁𝗲 𝘁𝗵𝗲 𝗽𝗼𝘄𝗲𝗿 𝗼𝗳 𝗼𝘂𝗿 𝘀𝘁𝗼𝗿𝗶𝗲𝘀 𝘁𝗼𝗴𝗲𝘁𝗵𝗲𝗿!𝖣𝖺𝗍𝖾: 𝖬𝖺𝗋𝖼𝗁 𝟮𝟵\, 𝟤𝟢𝟤𝟱𝖳𝗂𝗆𝖾: 𝟮:𝟬𝟬 𝗣𝗠 – 𝟴:𝟬𝟬 𝗣𝗠𝖠𝗍𝗍𝗂𝗋𝖾: 𝖥𝗂𝗅𝗂𝗉𝗂𝗇𝗂𝖺𝗇𝖺 / 𝖭𝖺𝗍𝗂𝗈𝗇𝖺𝗅 𝖣𝗋𝖾𝗌𝗌𝗥𝗦𝗩𝗣: 𝗙𝗿𝗲𝗲 𝗘𝘃𝗲𝗻𝘁𝗙𝗼𝗿 𝗺𝗼𝗿𝗲 𝗱𝗲𝘁𝗮𝗶𝗹𝘀 𝗰𝗼𝗻𝘁𝗮𝗰𝘁:𝗠𝘀. 𝗘𝗹𝗹𝗮𝗻𝗶𝗲 𝗮𝘁 𝟬𝟱𝟮 𝟳𝟳𝟳𝟰𝟵𝟮𝟴𝗠𝘀. 𝗜𝗿𝗶𝘀 𝗮𝘁 𝟬𝟱𝟬 𝟱𝟵𝟳𝟳𝟭𝟲𝟮𝗙𝗼𝗿 𝘀𝘂𝗽𝗽𝗼𝗿𝘁 𝗮𝗻𝗱 𝘀𝗽𝗼𝗻𝘀𝗼𝗿𝘀𝗵𝗶𝗽:𝗠𝘀. 𝗖𝗲𝗰𝗶𝗹𝗹𝗲 𝗮𝘁 𝟬𝟱𝟱 𝟯𝟲𝟴𝟳𝟳𝟴𝟯
URL:https://filipinosocialclub.org/event/filipinas-in-dubai-season-2/
LOCATION:Swissôtel Al Ghurair – Omar Bin Al Khattab St\, Dubai
CATEGORIES:FilSoc Events
ATTACH;FMTTYPE=image/jpeg:https://filipinosocialclub.org/wp-content/uploads/2026/04/filipinas.jpg
END:VEVENT
BEGIN:VEVENT
DTSTART;TZID=UTC:20250321T080000
DTEND;TZID=UTC:20250321T170000
DTSTAMP:20260423T144552
CREATED:20260421T204844Z
LAST-MODIFIED:20260421T204844Z
UID:1042-1742544000-1742576400@filipinosocialclub.org
SUMMARY:Member Memorial Service: Engr. Melencio "Milo" Torres
DESCRIPTION:MEMORIAL SERVICE INVITATIONYou are warmly invited to join us in commemorating the life of FilSoc member Engr. Milo Torres.Date: 21st March\, 2025 (Friday)Time: 6:30 PMLocation: Rizal Hall\, Philippine Consulate DubaiWe come together to honor his memory\, share stories\, and comfort one another in our loss Please join us as we remember and pay tribute to this incredible community leader in Dubai.
URL:https://filipinosocialclub.org/event/member-memorial-service-engr-melencio-milo-torres/
LOCATION:Rizal Hall\, Philippine Consulate General Dubai
CATEGORIES:FilSoc Events
ATTACH;FMTTYPE=image/jpeg:https://filipinosocialclub.org/wp-content/uploads/2026/04/sir-milo.jpg
END:VEVENT
BEGIN:VEVENT
DTSTART;VALUE=DATE:20250216
DTEND;VALUE=DATE:20250217
DTSTAMP:20260423T144552
CREATED:20260421T205209Z
LAST-MODIFIED:20260421T205209Z
UID:1046-1739664000-1739750399@filipinosocialclub.org
SUMMARY:Filipino Community Wet Olympics 2025
DESCRIPTION:Tara na sa Wet Olympics! Ipakita natin ang ating galing sa iba’t ibang palaro sa tubig. Dalhin ang pamilya at barkada! Siguradong masaya at challenging ‘to! Ngayong February 16 na! See you there! Maraming Salamat\, Sponsors!Pearl Hotel & Spa\, Umm Al QuwainBarako GrillEY LEGAL SERVICESAl Rigga Restaurant – Dubai Main BranchAmerican GardenEight Stars Ladies Garment TailoringBrilliant Mindz Training InstituteHe And She CollectionsInspire Alchemy Lifestyle Coaching & EventsFor more details\, contact: Mr. Christian at 056 458 8551
URL:https://filipinosocialclub.org/event/filipino-community-wet-olympics-2025/
LOCATION:Pearl Hotel\, Umm Al Quwain\, UAE
CATEGORIES:FilSoc Events
ATTACH;FMTTYPE=image/jpeg:https://filipinosocialclub.org/wp-content/uploads/2026/04/wet-olympics.jpg
END:VEVENT
BEGIN:VEVENT
DTSTART;TZID=UTC:20250126T140000
DTEND;TZID=UTC:20250126T170000
DTSTAMP:20260423T144552
CREATED:20260421T205605Z
LAST-MODIFIED:20260421T205605Z
UID:1050-1737900000-1737910800@filipinosocialclub.org
SUMMARY:Annual General Meeting 2025
DESCRIPTION:𝗪𝗲 𝘄𝗼𝘂𝗹𝗱 𝗹𝗶𝗸𝗲 𝘆𝗼𝘂 𝘁𝗼 𝗮𝘁𝘁𝗲𝗻𝗱 𝘁𝗵𝗲 𝗔𝗻𝗻𝘂𝗮𝗹 𝗚𝗲𝗻𝗲𝗿𝗮𝗹 𝗠𝗲𝗲𝘁𝗶𝗻𝗴 𝗼𝗳 𝗙𝗶𝗹𝗶𝗽𝗶𝗻𝗼 𝗦𝗼𝗰𝗶𝗮𝗹 𝗖𝗹𝘂𝗯 𝗼𝗻 𝗝𝗮𝗻𝘂𝗮𝗿𝘆 𝟮𝟲\, 𝟮𝟬𝟮𝟱 (𝙎𝙪𝙣𝙙𝙖𝙮)\, 𝗮𝘁 𝗛𝘆𝗮𝘁𝘁 𝗣𝗹𝗮𝗰𝗲 𝗗𝘂𝗯𝗮𝗶 𝗝𝘂𝗺𝗲𝗶𝗿𝗮𝗵 𝗳𝗿𝗼𝗺 𝟮:𝟬𝟬 𝗣𝗠.!𝗗𝘂𝗿𝗶𝗻𝗴 𝘁𝗵𝗶𝘀 𝗺𝗲𝗲𝘁𝗶𝗻𝗴\, 𝘄𝗲 𝘄𝗶𝗹𝗹 𝗯𝗲 𝗱𝗶𝘀𝗰𝘂𝘀𝘀𝗶𝗻𝗴 𝗵𝗶𝗴𝗵𝗹𝗶𝗴𝗵𝘁𝘀 𝗮𝗻𝗱 𝗮𝗰𝗵𝗶𝗲𝘃𝗲𝗺𝗲𝗻𝘁𝘀 𝗼𝘃𝗲𝗿 𝘁𝗵𝗲 𝗽𝗮𝘀𝘁 𝘆𝗲𝗮𝗿 𝗮𝘀 𝘄𝗲𝗹𝗹 𝗮𝘀 𝗱𝗶𝘀𝗰𝘂𝘀𝘀𝗶𝗻𝗴 𝘀𝗼𝗺𝗲 𝗻𝗲𝘅𝘁 𝘀𝘁𝗲𝗽𝘀 𝗮𝗻𝗱 𝗳𝘂𝘁𝘂𝗿𝗲 𝗱𝗲𝘃𝗲𝗹𝗼𝗽𝗺𝗲𝗻𝘁𝘀 𝗽𝗹𝗮𝗻𝗻𝗲𝗱 𝗳𝗼𝗿 𝘁𝗵𝗲 𝘆𝗲𝗮𝗿 𝗮𝗵𝗲𝗮𝗱.N𝗼𝘁𝗲: 𝗠𝗮𝗻𝗱𝗮𝘁𝗼𝗿𝘆 𝗔𝘁𝘁𝗲𝗻𝗱𝗮𝗻𝗰𝗲 𝘁𝗼 𝗮𝗹𝗹 𝗠𝗲𝗺𝗯𝗲𝗿𝘀. \n𝗪𝗲 𝘄𝗲𝗹𝗰𝗼𝗺𝗲 𝗻𝗲𝘄 𝗺𝗲𝗺𝗯𝗲𝗿𝘀 𝗼𝗳 𝗼𝘂𝗿 𝗙𝗶𝗹𝗶𝗽𝗶𝗻𝗼 𝗖𝗼𝗺𝗺𝘂𝗻𝗶𝘁𝘆!Register with the link: https://forms.gle/roAPfiWen3XrzMtP6𝙁𝙚𝙚𝙡 𝙛𝙧𝙚𝙚 𝙩𝙤 𝙘𝙤𝙣𝙩𝙖𝙘𝙩: 𝙈𝙧. 𝘾𝙝𝙧𝙞𝙨𝙩𝙞𝙖𝙣 0564588551Locationhttps://maps.app.goo.gl/EC62Y8Z8WYrz4anx5𝗠𝗮𝗿𝗮𝗺𝗶𝗻𝗴 𝗦𝗮𝗹𝗮𝗺𝗮𝘁! KJM Marine LLCFilipino HomesBRAND GPU Express Logistic Corporation
URL:https://filipinosocialclub.org/event/annual-general-meeting-2025/
LOCATION:Hyatt Place\, Jumeirah\, Dubai
CATEGORIES:FilSoc Events
ATTACH;FMTTYPE=image/jpeg:https://filipinosocialclub.org/wp-content/uploads/2026/04/agm-25.jpg
END:VEVENT
BEGIN:VEVENT
DTSTART;TZID=UTC:20241229T140000
DTEND;TZID=UTC:20241229T210000
DTSTAMP:20260423T144552
CREATED:20260421T210018Z
LAST-MODIFIED:20260421T210034Z
UID:1054-1735480800-1735506000@filipinosocialclub.org
SUMMARY:FilSoc Members Year-End Party 2024
DESCRIPTION:Get into the holiday spirit at Filipino Social Club’s Year-End Party!Open to all FilSoC Regular Members! Indulge in our festive fun games\, from seasonal cocktails to special holiday pinoy lechon bites\, perfect for celebrating with each FilSoC member and the Board of Directors.Cheers to the season of joy and the good Filipino community in Dubai!Who: FilSoC Regular MembersWhat: Filipino Social Club Year-End PartyWhen: December 29\, 2024 (Sunday)Where: Migrant Workers Office DubaiTime: 3:00 PM – 9:00 PMFor attendance:Christian at +971564588551note:We prepare Pinoy traditional foods for you! But we encourage you to bring some sweets and Filipino foods to share! Christmas Exchange Gifts worth 50dhs. Be ready for the Fun games. Attire: Christmas colors.
URL:https://filipinosocialclub.org/event/filsoc-members-year-end-party-2024/
LOCATION:Migrant Worker’s Office (MWO)\, Dubai
CATEGORIES:FilSoc Events
ATTACH;FMTTYPE=image/jpeg:https://filipinosocialclub.org/wp-content/uploads/2026/04/year-end.jpg
END:VEVENT
BEGIN:VEVENT
DTSTART;VALUE=DATE:20241215
DTEND;VALUE=DATE:20241216
DTSTAMP:20260423T144552
CREATED:20260421T210602Z
LAST-MODIFIED:20260421T210602Z
UID:1057-1734220800-1734307199@filipinosocialclub.org
SUMMARY:Paskong Pinoy sa Dubai 2024
DESCRIPTION:𝗣𝗮𝘀𝗸𝗼𝗻𝗴 𝗣𝗶𝗻𝗼𝘆 𝘀𝗮 𝗗𝘂𝗯𝗮𝗶 𝟮𝟬𝟮𝟰! 𝑷𝙖𝒓𝙖 𝙨𝒂 𝒎𝙜𝒂 𝒎𝙖𝒉𝙖𝒍 𝒏𝙖𝒎𝙞𝒏𝙜 𝙊𝑭𝙒s! 𝗛𝗮𝗻𝗱𝗼𝗴 𝗽𝗮𝘀𝗮𝘀𝗮𝗹𝗮𝗺𝗮𝘁 𝗮𝘁 𝗽𝗮𝗴𝗱𝗶𝗿𝗶𝘄𝗮𝗻𝗴 𝗻𝗴 𝗙𝗶𝗹𝗶𝗽𝗶𝗻𝗼 𝗰𝗼𝗺𝗺𝘂𝗻𝗶𝘁𝘆 𝘀𝗮 𝗗𝘂𝗯𝗮𝗶 𝗻𝗴𝗮𝘆𝗼𝗻𝗴 𝗸𝗮𝗽𝗮𝘀𝗸𝘂𝗵𝗮𝗻!𝗦𝗮𝗸𝘀𝗶𝗵𝗮𝗻 𝗮𝗻𝗴 𝗶𝗯𝗮𝘁 𝗶𝗯𝗮𝗻𝗴 𝗽𝗮𝗰𝗼𝗻𝘁𝗲𝘀𝘁! * 𝗘𝘅𝗰𝗵𝗮𝗻𝗴𝗲 𝗚𝗶𝗳𝘁 𝗻𝗴 𝗕𝗮𝘆𝗮𝗻 (𝐴𝑑𝑢𝑙𝑡\,𝐾𝑖𝑑𝑠) 20𝑎𝑒𝑑* 𝗖𝗵𝗿𝗶𝘀𝘁𝗺𝗮𝘀 𝗕𝗮𝘇𝗮𝗮𝗿 * 𝗣𝗮𝗿𝗼𝗹 𝗗𝗶𝘀𝗽𝗹𝗮𝘆 𝗖𝗼𝗻𝘁𝗲𝘀𝘁 * 𝗠𝗴𝗮 𝗣𝗮𝗴𝗸𝗮𝗶𝗻𝗴 𝗣𝗶𝗻𝗼𝘆 * 𝗖𝗵𝗿𝗶𝘀𝘁𝗺𝗮𝘀 𝗖𝗮𝗿𝗼𝗹𝗶𝗻𝗴 𝗖𝗼𝗻𝘁𝗲𝘀𝘁 * 𝗗𝗮𝗺𝗶𝘁 𝗣𝗮𝘀𝗸𝗼 𝗖𝗼𝗻𝘁𝗲𝘀𝘁 * 𝗞𝗮𝗿𝗮𝗼𝗸𝗲 𝗖𝗵𝗮𝗹𝗹𝗲𝗻𝗴𝗲 * 𝗖𝗵𝗿𝗶𝘀𝘁𝗺𝗮𝘀 𝗗𝗮𝗻𝗰𝗲 𝗖𝗼𝗻𝘁𝗲𝘀𝘁 * 𝗣𝗶𝗻𝗼𝘆 𝗣𝗮𝗿𝗹𝗼𝗿 𝗚𝗮𝗺𝗲𝘀 * 𝗕𝗶𝗻𝗴𝗼 𝗻𝗴 𝗕𝗮𝘆𝗮𝗻* 𝗪𝗶𝘀𝗵 𝗞𝗼 𝗟𝗮𝗻𝗴 𝘀𝗮 𝗣𝗮𝘀𝗸𝗼* 𝗦𝘂𝗴𝗼𝗱 𝗕𝗮𝗵𝗮𝘆 𝗣𝗮𝗺𝗮𝘀𝗸𝗼* 𝗖𝗵𝗿𝗶𝘀𝘁𝗺𝗮𝘀 𝗧𝗿𝗲𝗲 𝗟𝗶𝗴𝗵𝘁𝗶𝗻𝗴𝘀 * 𝗙𝗿𝗲𝗲 𝗠𝗲𝗱𝗶𝗰𝗮𝗹 𝗕𝗮𝘀𝗶𝗰 𝗖𝗵𝗲𝗰𝗸-𝘂𝗽𝗮𝗻𝗱 𝗺𝗮𝗻𝘆 𝗺𝗼𝗿𝗲 𝗴𝗶𝘃𝗲𝗮𝘄𝗮𝘆𝘀 𝗮𝗻𝗱 𝗽𝗿𝗶𝘇𝗲𝘀! 𝗠𝗲𝗿𝗼𝗻 𝗱𝗶𝗻 𝘁𝗮𝘆𝗼𝗻𝗴…* 𝗕𝗮𝘀𝗸𝗲𝘁𝗯𝗮𝗹𝗹 * 𝗙𝗼𝗼𝘁𝗯𝗮𝗹𝗹 M𝗮𝘆 𝘀o𝗿𝗽𝗿𝗲𝘀𝗮𝗻𝗴 𝗮𝗴u𝗶𝗻𝗮𝗹𝗱𝗼 𝗽𝗮𝗿𝗮 𝘀𝗮 𝗺𝗴𝗮 𝗕𝗮𝘁𝗮 𝗮𝘁 𝗦𝗲𝗻𝗶𝗼𝗿 𝗖𝗶𝘁𝗶𝘇𝗲𝗻𝘀!𝗛’𝘄𝗮𝗴 𝗽𝗮𝗹𝗮𝗺𝗽𝗮𝘀𝗶𝗻! 𝗠𝗮𝘀𝗮𝘆𝗮 𝗮𝘁 𝗠𝗮𝗹𝗶𝗴𝗮𝘆𝗮𝗻𝗴 𝗣𝗮𝘀𝗸𝗼 𝗽𝗮𝗿𝗮 𝘀𝗮 𝗺𝗴𝗮 𝗢𝗙𝗪! 𝗠𝗮𝗿𝗸 𝘁𝗵𝗲 𝗱𝗮𝘁𝗲\, 𝗗𝗲𝗰𝗲𝗺𝗯𝗲𝗿 𝟭𝟱\, 𝟮𝟬𝟮𝟰\, 𝘀𝗽𝗼𝗿𝘁𝘀 𝗹𝗲𝗮𝗴𝘂𝗲 𝘀𝘁𝗮𝗿𝘁𝘀 𝗳𝗿𝗼𝗺 𝟭𝟭:𝟬𝟬 𝗔𝗠\, 𝗽𝗿𝗼𝗴𝗿𝗮𝗺 𝘀𝘁𝗮𝗿𝘁𝘀 𝗮𝘁 𝟮:𝟬𝟬 𝗣𝗠.𝙎𝙥𝙚𝙘𝙞𝙖𝙡 𝙩𝙝𝙖𝙣𝙠𝙨 𝙩𝙤 𝙤𝙪𝙧 𝙄𝙣𝙙𝙞𝙫𝙞𝙙𝙪𝙖𝙡 𝙎𝙥𝙤𝙣𝙨𝙤𝙧𝙨:𝙈𝙧. 𝙖𝙣𝙙 𝙈𝙨. 𝘼𝙝𝙢𝙖𝙙 𝘼𝙡 𝘼𝙣𝙨𝙖𝙧𝙞 𝙖𝙣𝙙 𝙁𝙖𝙢𝙞𝙡𝙮𝙈𝙧. 𝙅𝙤𝙨𝙚 𝙄𝙖𝙣 𝙀𝙡𝙚𝙧𝙞𝙖 𝙖𝙣𝙙 𝙁𝙖𝙢𝙞𝙡𝙮𝙈𝙙𝙖𝙢 𝙅𝙤𝙢𝙖𝙣𝙖 𝙈𝙤𝙝𝙖𝙢𝙢𝙖𝙙 𝙖𝙣𝙙 𝙁𝙖𝙢𝙞𝙡𝙮𝙈𝙨. 𝙎𝙤𝙛𝙞𝙖 𝘿𝙤𝙣𝙚𝙡𝙡𝙚 𝘾𝙖𝙜𝙪𝙚𝙩𝙚𝙈𝙨. 𝙈𝙖𝙧𝙞𝙗𝙚𝙣 𝘾𝙝𝙧𝙞𝙨𝙩𝙞𝙣𝙚 𝙏. 𝙀𝙪𝙨𝙩𝙖𝙦𝙪𝙞𝙤 𝙖𝙣𝙙 𝙁𝙖𝙢𝙞𝙡𝙮𝙈𝙨. 𝙎𝙪𝙨𝙖𝙣 𝙈. 𝙁𝙧𝙖𝙣𝙘𝙞𝙨𝙘𝙤 𝙖𝙣𝙙 𝙁𝙖𝙢𝙞𝙡𝙮𝙈𝙨. 𝙈𝙖𝙧𝙞𝙚𝙩𝙚𝙨 𝙂. 𝘾𝙤𝙧𝙨𝙞𝙣𝙤 𝙖𝙣𝙙 𝙁𝙖𝙢𝙞𝙡𝙮𝙈𝙨. 𝙇𝙚𝙩𝙚𝙭𝙞𝙖 𝘾. 𝘼𝙥𝙤𝙣𝑼𝙄𝑷𝙎 𝙋𝒂𝙧𝒆𝙣𝒕𝙨 𝘾𝒐𝙪𝒏𝙘𝒊𝙡 𝙊𝒇𝙛𝒊𝙘𝒆𝙧𝒔𝙈𝒔. 𝘼𝒓𝙡𝒆𝙣𝒆 𝑳𝙖𝒇𝙤𝒓𝙩𝒆𝙯𝒂 Khan Family Ms. Arlene Laforteza
URL:https://filipinosocialclub.org/event/paskong-pinoy-sa-dubai-2024/
LOCATION:Pakistan Association Grounds\, Oud Metha\, Dubai
CATEGORIES:FilSoc Events
ATTACH;FMTTYPE=image/jpeg:https://filipinosocialclub.org/wp-content/uploads/2026/04/paskong-pinoy.jpg
END:VEVENT
BEGIN:VEVENT
DTSTART;TZID=UTC:20241116T190000
DTEND;TZID=UTC:20241116T230000
DTSTAMP:20260423T144552
CREATED:20260421T211416Z
LAST-MODIFIED:20260421T211416Z
UID:1064-1731783600-1731798000@filipinosocialclub.org
SUMMARY:Filipino Community Gala 2024
DESCRIPTION:On the occasion of the 5th Anniversary of the Filipino Social Club\, we are holding a Filipino Community Gala 2024. \nRSVP only
URL:https://filipinosocialclub.org/event/filipino-community-gala-2024/
CATEGORIES:FilSoc Events
ATTACH;FMTTYPE=image/jpeg:https://filipinosocialclub.org/wp-content/uploads/2026/04/gala.jpg
END:VEVENT
BEGIN:VEVENT
DTSTART;TZID=UTC:20240929T140000
DTEND;TZID=UTC:20240929T170000
DTSTAMP:20260423T144552
CREATED:20260421T212959Z
LAST-MODIFIED:20260421T212959Z
UID:1077-1727618400-1727629200@filipinosocialclub.org
SUMMARY:Filipino Community Leaders Meeting
DESCRIPTION:Mᴇᴇᴛɪɴɢ Iɴᴠɪᴛᴀᴛɪᴏɴ ᴛᴏ Aʟʟ Fɪʟɪᴘɪɴᴏ Gʀᴏᴜᴘs“𝖤𝗆𝗉𝗈𝗐𝖾𝗋𝗂𝗇𝗀 𝖳𝗈𝗀𝖾𝗍𝗁𝖾𝗋: 𝖥𝗂𝗅𝗂𝗉𝗂𝗇𝗈 𝖢𝗈𝗆𝗆𝗎𝗇𝗂𝗍𝗒 𝖫𝖾𝖺𝖽𝖾𝗋’𝗌 𝖬𝖾𝖾𝗍𝗂𝗇𝗀.”Dᴀᴛᴇ: Sᴇᴘᴛᴇᴍʙᴇʀ 29\, 2024 (Sᴜɴᴅᴀʏ)Vᴇɴᴜᴇ: Lᴜᴢᴏɴ Hᴀʟʟ\, Dᴇᴘᴀʀᴛᴍᴇɴᴛ ᴏғ Mɪɢʀᴀɴᴛ WᴏʀᴋᴇʀsTɪᴍᴇ: 2:00 PMRᴇɢɪsᴛᴇʀ ʏᴏᴜʀ Aᴛᴛᴇɴᴅᴀɴᴄᴇ:Mʀ. Cʜʀɪsᴛɪᴀɴ +971 56 458 8551Ms. Eʟʟᴀɴɪᴇ +971 52 777 4928
URL:https://filipinosocialclub.org/event/filipino-community-leaders-meeting-3/
LOCATION:Migrant Worker’s Office (MWO)\, Dubai
CATEGORIES:FilSoc Events
ATTACH;FMTTYPE=image/jpeg:https://filipinosocialclub.org/wp-content/uploads/2026/04/filcom-meet-1.jpg
END:VEVENT
BEGIN:VEVENT
DTSTART;VALUE=DATE:20240804
DTEND;VALUE=DATE:20240805
DTSTAMP:20260423T144552
CREATED:20260421T213633Z
LAST-MODIFIED:20260421T213633Z
UID:1083-1722729600-1722815999@filipinosocialclub.org
SUMMARY:FilSoc People of Determination (POD) Day
DESCRIPTION:𝗖𝗲𝗹𝗲𝗯𝗿𝗮𝘁𝗶𝗻𝗴 𝗙𝗶𝗹𝗶𝗽𝗶𝗻𝗼 𝗣𝗲𝗼𝗽𝗹𝗲 𝗼𝗳 𝗗𝗲𝘁𝗲𝗿𝗺𝗶𝗻𝗮𝘁𝗶𝗼𝗻 𝗗𝗮𝘆! 𝗘𝗺𝗽𝗼𝘄𝗲𝗿𝗶𝗻𝗴 𝗮𝗹𝗹 𝗮𝗯𝗶𝗹𝗶𝘁𝗶𝗲𝘀! 𝗝𝗼𝗶𝗻 𝘂𝘀 𝗶𝗻 𝗮𝗱𝘃𝗼𝗰𝗮𝘁𝗶𝗻𝗴 𝗳𝗼𝗿 𝗶𝗻𝗰𝗹𝘂𝘀𝗶𝘃𝗶𝘁𝘆 𝗼𝗻 𝗔𝘂𝗴𝘂𝘀𝘁 𝟰\, 𝟮𝟬𝟮𝟰!𝗠𝗮𝘆 𝗸𝗮𝗸𝗶𝗹𝗮𝗹𝗮 𝗸𝗮 𝗯𝗮𝗻𝗴 𝗸𝗮𝗯𝗮𝘆𝗮𝗻 𝗻𝗮 𝗣𝗲𝗼𝗽𝗹𝗲 𝗼𝗳 𝗗𝗲𝘁𝗲𝗿𝗺𝗶𝗻𝗮𝘁𝗶𝗼𝗻 𝗱𝗶𝘁𝗼 𝘀𝗮 𝗨𝗔𝗘? 𝗜𝗻𝘃𝗶𝘁𝗲 𝘁𝗵𝗲𝗺 𝘁𝗼 𝗯𝗲 𝗽𝗮𝗿𝘁 𝗼𝗳 𝘁𝗵𝗲 𝗙𝗶𝗹𝗦𝗼𝗖 𝗣𝗲𝗼𝗽𝗹𝗲 𝗼𝗳 𝗗𝗲𝘁𝗲𝗿𝗺𝗶𝗻𝗮𝘁𝗶𝗼𝗻 𝗗𝗮𝘆!𝗘𝗹𝗶𝗴𝗶𝗯𝗶𝗹𝗶𝘁𝘆 𝗖𝗿𝗶𝘁𝗲𝗿𝗶𝗮• 𝗣𝗲𝗿𝘀𝗼𝗻𝘀 𝘄𝗶𝘁𝗵 𝗱𝗶𝘀𝗮𝗯𝗶𝗹𝗶𝘁𝗶𝗲𝘀 (𝗸𝗶𝗻𝗲𝘁𝗶𝗰\, 𝗺𝗲𝗻𝘁𝗮𝗹\, 𝘀𝗲𝗻𝘀𝗼𝗿𝘆\, 𝗱𝗲𝘃𝗲𝗹𝗼𝗽𝗺𝗲𝗻𝘁𝗮𝗹\, 𝗽𝘀𝘆𝗰𝗵𝗼𝗹𝗼𝗴𝗶𝗰𝗮𝗹) 𝗿𝗲𝘀𝗶𝗱𝗶𝗻𝗴 𝗶𝗻 𝘁𝗵𝗲 𝗨𝗔𝗘𝗙𝗶𝗹𝗦𝗼𝗖 𝗣𝗢𝗗 𝗗𝗮𝘆 𝗥𝗲𝗴𝗶𝘀𝘁𝗿𝗮𝘁𝗶𝗼𝗻 𝗟𝗶𝗻𝗸: https://forms.gle/hFc6t3LDbrUyf6dY9𝗜𝗳 𝘆𝗼𝘂 𝘄𝗮𝗻𝘁 𝘁𝗼 𝘀𝘂𝗽𝗽𝗼𝗿𝘁 𝗰𝗼𝗻𝘁𝗮𝗰𝘁: 𝗠𝗿. 𝗖𝗵𝗿𝗶𝘀𝘁𝗶𝗮𝗻 𝟬𝟱𝟲𝟰𝟱𝟴𝟴𝟱𝟱𝟭.
URL:https://filipinosocialclub.org/event/filsoc-people-of-determination-pod-day/
LOCATION:Windsor Hall\, Glendale International School\, Oud Metha
CATEGORIES:FilSoc Events
ATTACH;FMTTYPE=image/jpeg:https://filipinosocialclub.org/wp-content/uploads/2026/04/pod.jpg
END:VEVENT
BEGIN:VEVENT
DTSTART;VALUE=DATE:20240608
DTEND;VALUE=DATE:20240609
DTSTAMP:20260423T144552
CREATED:20240408T074330Z
LAST-MODIFIED:20240730T110905Z
UID:723-1717804800-1717891199@filipinosocialclub.org
SUMMARY:126th Philippine Independence Day Celebration
DESCRIPTION:
URL:https://filipinosocialclub.org/event/126th-philippine-independence-day-celebration/
LOCATION:Za-abeel Hall 3\, Dubai World Trade Center\, Dubai\, United Arab Emirates
CATEGORIES:FilSoc Events
ATTACH;FMTTYPE=image/jpeg:https://filipinosocialclub.org/wp-content/uploads/2024/04/pid-2024.jpg
END:VEVENT
BEGIN:VEVENT
DTSTART;VALUE=DATE:20211001
DTEND;VALUE=DATE:20220411
DTSTAMP:20260423T144552
CREATED:20210702T110849Z
LAST-MODIFIED:20211023T183707Z
UID:73-1633046400-1649635199@filipinosocialclub.org
SUMMARY:Expo 2020
DESCRIPTION:As the official community partner of the Philippine Expo Team in Dubai\, FilSoc will help facilitate activities in the upcoming Expo 2020.
URL:https://filipinosocialclub.org/event/expo-2020/
LOCATION:Expo2020\, Expo 2020\, Dubai\, United Arab Emirates
CATEGORIES:FilSoc Events
ATTACH;FMTTYPE=image/jpeg:https://filipinosocialclub.org/wp-content/uploads/2021/07/expo-dubai.jpg
END:VEVENT
BEGIN:VEVENT
DTSTART;VALUE=DATE:20210730
DTEND;VALUE=DATE:20210731
DTSTAMP:20260423T144552
CREATED:20210702T112232Z
LAST-MODIFIED:20210702T112232Z
UID:83-1627603200-1627689599@filipinosocialclub.org
SUMMARY:FilSoc 2nd Anniversary
DESCRIPTION:FilSoc celebrates its 2nd foundation anniversary.
URL:https://filipinosocialclub.org/event/filsoc-2nd-anniversary/
CATEGORIES:FilSoc Events
ATTACH;FMTTYPE=image/jpeg:https://filipinosocialclub.org/wp-content/uploads/2021/07/filsoc-anniversary.jpg
END:VEVENT
END:VCALENDAR