BEGIN:VCALENDAR
VERSION:2.0
PRODID:-//Filipino Social Club - ECPv6.13.2.1//NONSGML v1.0//EN
CALSCALE:GREGORIAN
METHOD:PUBLISH
X-ORIGINAL-URL:https://filipinosocialclub.org
X-WR-CALDESC:Events for Filipino Social Club
REFRESH-INTERVAL;VALUE=DURATION:PT1H
X-Robots-Tag:noindex
X-PUBLISHED-TTL:PT1H
BEGIN:VTIMEZONE
TZID:UTC
BEGIN:STANDARD
TZOFFSETFROM:+0000
TZOFFSETTO:+0000
TZNAME:UTC
DTSTART:20250101T000000
END:STANDARD
END:VTIMEZONE
BEGIN:VEVENT
DTSTART;TZID=UTC:20250420T140000
DTEND;TZID=UTC:20250420T170000
DTSTAMP:20260424T102432
CREATED:20260421T203104Z
LAST-MODIFIED:20260421T203104Z
UID:1028-1745157600-1745168400@filipinosocialclub.org
SUMMARY:Filipino Community Leaders Meeting
DESCRIPTION:Calling All Filipino Community Group Leaders and Officers! We cordially invite all dedicated Filipino community leaders and officers to an important gathering this coming Sunday\, April 20th\, at the Migrant Workers Office.Let’s come together to connect\, collaborate\, and discuss matters vital to our vibrant Filipino community here in Dubai. Your presence and insights are invaluable as we continue to strengthen our unity and support for one another. Date: Sunday\, April 20th Time: 2:00 PM onwards Venue: Migrant Workers Office (Dubai)We look forward to a productive and meaningful afternoon with all of you. Please make every effort to attend.Mabuhay!
URL:https://filipinosocialclub.org/event/filipino-community-leaders-meeting-2/
LOCATION:Migrant Worker’s Office (MWO)\, Dubai
CATEGORIES:FilSoc Events
ATTACH;FMTTYPE=image/jpeg:https://filipinosocialclub.org/wp-content/uploads/2026/04/filcom-meet.jpg
END:VEVENT
END:VCALENDAR