BEGIN:VCALENDAR
VERSION:2.0
PRODID:-//Filipino Social Club - ECPv6.13.2.1//NONSGML v1.0//EN
CALSCALE:GREGORIAN
METHOD:PUBLISH
X-ORIGINAL-URL:https://filipinosocialclub.org
X-WR-CALDESC:Events for Filipino Social Club
REFRESH-INTERVAL;VALUE=DURATION:PT1H
X-Robots-Tag:noindex
X-PUBLISHED-TTL:PT1H
BEGIN:VTIMEZONE
TZID:UTC
BEGIN:STANDARD
TZOFFSETFROM:+0000
TZOFFSETTO:+0000
TZNAME:UTC
DTSTART:20240101T000000
END:STANDARD
END:VTIMEZONE
BEGIN:VEVENT
DTSTART;VALUE=DATE:20240804
DTEND;VALUE=DATE:20240805
DTSTAMP:20260424T225833
CREATED:20260421T213633Z
LAST-MODIFIED:20260421T213633Z
UID:1083-1722729600-1722815999@filipinosocialclub.org
SUMMARY:FilSoc People of Determination (POD) Day
DESCRIPTION:𝗖𝗲𝗹𝗲𝗯𝗿𝗮𝘁𝗶𝗻𝗴 𝗙𝗶𝗹𝗶𝗽𝗶𝗻𝗼 𝗣𝗲𝗼𝗽𝗹𝗲 𝗼𝗳 𝗗𝗲𝘁𝗲𝗿𝗺𝗶𝗻𝗮𝘁𝗶𝗼𝗻 𝗗𝗮𝘆! 𝗘𝗺𝗽𝗼𝘄𝗲𝗿𝗶𝗻𝗴 𝗮𝗹𝗹 𝗮𝗯𝗶𝗹𝗶𝘁𝗶𝗲𝘀! 𝗝𝗼𝗶𝗻 𝘂𝘀 𝗶𝗻 𝗮𝗱𝘃𝗼𝗰𝗮𝘁𝗶𝗻𝗴 𝗳𝗼𝗿 𝗶𝗻𝗰𝗹𝘂𝘀𝗶𝘃𝗶𝘁𝘆 𝗼𝗻 𝗔𝘂𝗴𝘂𝘀𝘁 𝟰\, 𝟮𝟬𝟮𝟰!𝗠𝗮𝘆 𝗸𝗮𝗸𝗶𝗹𝗮𝗹𝗮 𝗸𝗮 𝗯𝗮𝗻𝗴 𝗸𝗮𝗯𝗮𝘆𝗮𝗻 𝗻𝗮 𝗣𝗲𝗼𝗽𝗹𝗲 𝗼𝗳 𝗗𝗲𝘁𝗲𝗿𝗺𝗶𝗻𝗮𝘁𝗶𝗼𝗻 𝗱𝗶𝘁𝗼 𝘀𝗮 𝗨𝗔𝗘? 𝗜𝗻𝘃𝗶𝘁𝗲 𝘁𝗵𝗲𝗺 𝘁𝗼 𝗯𝗲 𝗽𝗮𝗿𝘁 𝗼𝗳 𝘁𝗵𝗲 𝗙𝗶𝗹𝗦𝗼𝗖 𝗣𝗲𝗼𝗽𝗹𝗲 𝗼𝗳 𝗗𝗲𝘁𝗲𝗿𝗺𝗶𝗻𝗮𝘁𝗶𝗼𝗻 𝗗𝗮𝘆!𝗘𝗹𝗶𝗴𝗶𝗯𝗶𝗹𝗶𝘁𝘆 𝗖𝗿𝗶𝘁𝗲𝗿𝗶𝗮• 𝗣𝗲𝗿𝘀𝗼𝗻𝘀 𝘄𝗶𝘁𝗵 𝗱𝗶𝘀𝗮𝗯𝗶𝗹𝗶𝘁𝗶𝗲𝘀 (𝗸𝗶𝗻𝗲𝘁𝗶𝗰\, 𝗺𝗲𝗻𝘁𝗮𝗹\, 𝘀𝗲𝗻𝘀𝗼𝗿𝘆\, 𝗱𝗲𝘃𝗲𝗹𝗼𝗽𝗺𝗲𝗻𝘁𝗮𝗹\, 𝗽𝘀𝘆𝗰𝗵𝗼𝗹𝗼𝗴𝗶𝗰𝗮𝗹) 𝗿𝗲𝘀𝗶𝗱𝗶𝗻𝗴 𝗶𝗻 𝘁𝗵𝗲 𝗨𝗔𝗘𝗙𝗶𝗹𝗦𝗼𝗖 𝗣𝗢𝗗 𝗗𝗮𝘆 𝗥𝗲𝗴𝗶𝘀𝘁𝗿𝗮𝘁𝗶𝗼𝗻 𝗟𝗶𝗻𝗸: https://forms.gle/hFc6t3LDbrUyf6dY9𝗜𝗳 𝘆𝗼𝘂 𝘄𝗮𝗻𝘁 𝘁𝗼 𝘀𝘂𝗽𝗽𝗼𝗿𝘁 𝗰𝗼𝗻𝘁𝗮𝗰𝘁: 𝗠𝗿. 𝗖𝗵𝗿𝗶𝘀𝘁𝗶𝗮𝗻 𝟬𝟱𝟲𝟰𝟱𝟴𝟴𝟱𝟱𝟭.
URL:https://filipinosocialclub.org/event/filsoc-people-of-determination-pod-day/
LOCATION:Windsor Hall\, Glendale International School\, Oud Metha
CATEGORIES:FilSoc Events
ATTACH;FMTTYPE=image/jpeg:https://filipinosocialclub.org/wp-content/uploads/2026/04/pod.jpg
END:VEVENT
END:VCALENDAR