BEGIN:VCALENDAR
VERSION:2.0
PRODID:-//Filipino Social Club - ECPv6.13.2.1//NONSGML v1.0//EN
CALSCALE:GREGORIAN
METHOD:PUBLISH
X-WR-CALNAME:Filipino Social Club
X-ORIGINAL-URL:https://filipinosocialclub.org
X-WR-CALDESC:Events for Filipino Social Club
REFRESH-INTERVAL;VALUE=DURATION:PT1H
X-Robots-Tag:noindex
X-PUBLISHED-TTL:PT1H
BEGIN:VTIMEZONE
TZID:UTC
BEGIN:STANDARD
TZOFFSETFROM:+0000
TZOFFSETTO:+0000
TZNAME:UTC
DTSTART:20210101T000000
END:STANDARD
END:VTIMEZONE
BEGIN:VEVENT
DTSTART;VALUE=DATE:20220211
DTEND;VALUE=DATE:20220212
DTSTAMP:20260423T223757
CREATED:20210923T182300Z
LAST-MODIFIED:20210923T202107Z
UID:283-1644537600-1644623999@filipinosocialclub.org
SUMMARY:Philippines National Day Program
DESCRIPTION:Philippines National Day Program
URL:https://filipinosocialclub.org/event/philippines-national-day-program/
CATEGORIES:EXPO 2020
ATTACH;FMTTYPE=image/jpeg:https://filipinosocialclub.org/wp-content/uploads/2021/09/festival-parade.jpg
END:VEVENT
BEGIN:VEVENT
DTSTART;VALUE=DATE:20211213
DTEND;VALUE=DATE:20211214
DTSTAMP:20260423T223758
CREATED:20210923T181743Z
LAST-MODIFIED:20210923T201957Z
UID:279-1639353600-1639439999@filipinosocialclub.org
SUMMARY:PH Procession At The ASEAN National Day
DESCRIPTION:PH Procession At The ASEAN National Day
URL:https://filipinosocialclub.org/event/ph-procession-at-the-asean-national-day/
CATEGORIES:EXPO 2020
ATTACH;FMTTYPE=image/jpeg:https://filipinosocialclub.org/wp-content/uploads/2021/09/asean.jpg
END:VEVENT
BEGIN:VEVENT
DTSTART;VALUE=DATE:20211206
DTEND;VALUE=DATE:20211208
DTSTAMP:20260423T223758
CREATED:20210923T181033Z
LAST-MODIFIED:20210923T181916Z
UID:277-1638748800-1638921599@filipinosocialclub.org
SUMMARY:Welcome Reception To Philippine Delegation
DESCRIPTION:Welcome Reception To Philippine Delegation
URL:https://filipinosocialclub.org/event/welcome-reception-to-philippine-delegation/
CATEGORIES:EXPO 2020
ATTACH;FMTTYPE=image/jpeg:https://filipinosocialclub.org/wp-content/uploads/2021/09/bangkota-pavilion.jpg
END:VEVENT
END:VCALENDAR