BEGIN:VCALENDAR
VERSION:2.0
PRODID:-//Filipino Social Club - ECPv6.13.2.1//NONSGML v1.0//EN
CALSCALE:GREGORIAN
METHOD:PUBLISH
X-WR-CALNAME:Filipino Social Club
X-ORIGINAL-URL:https://filipinosocialclub.org
X-WR-CALDESC:Events for Filipino Social Club
REFRESH-INTERVAL;VALUE=DURATION:PT1H
X-Robots-Tag:noindex
X-PUBLISHED-TTL:PT1H
BEGIN:VTIMEZONE
TZID:UTC
BEGIN:STANDARD
TZOFFSETFROM:+0000
TZOFFSETTO:+0000
TZNAME:UTC
DTSTART:20250101T000000
END:STANDARD
END:VTIMEZONE
BEGIN:VEVENT
DTSTART;TZID=UTC:20251025T130000
DTEND;TZID=UTC:20251025T150000
DTSTAMP:20260423T230029
CREATED:20260421T190514Z
LAST-MODIFIED:20260421T190514Z
UID:985-1761397200-1761404400@filipinosocialclub.org
SUMMARY:Filmmaking Workshop
DESCRIPTION:FILIPINO SOCIAL CLUB PRESENTS: “Essentials of Filmmaking” A 2-Hour Seminar-Workshop Date: October 25\, 2025 (Saturday) Time: 1:00 PM – 3:00 PM Venue: MWO Dubai Learn the art and craft of filmmaking — from concept to camera — in this hands-on workshop designed for aspiring storytellers and creative enthusiasts! Cameras will be provided during the session. Limited to 30 participants only. Facilitator: Ms. Suzette Peachie BayonitoA respected Filipino filmmaker and Nikon Middle East lecturer\, Ms. Bayonito is known for her expertise in visual storytelling and camera mastery. She has conducted numerous workshops across the UAE and abroad\, empowering content creators and visual artists to tell compelling stories through the lens.Important note: If unable to attend the event but have already registered\, PLEASE INFORM US 1 DAY BEFORE so that people on the waitlist can attend. Register now and discover your filmmaker’s eye! For reservation of slot: https://forms.gle/kenu3pXij7StfRBH8
URL:https://filipinosocialclub.org/event/filmmaking-workshop/
LOCATION:Migrant Worker’s Office (MWO)\, Dubai
CATEGORIES:FilSoc Events
ATTACH;FMTTYPE=image/jpeg:https://filipinosocialclub.org/wp-content/uploads/2026/04/film.jpg
END:VEVENT
END:VCALENDAR