BEGIN:VCALENDAR
VERSION:2.0
PRODID:-//Filipino Social Club - ECPv6.13.2.1//NONSGML v1.0//EN
CALSCALE:GREGORIAN
METHOD:PUBLISH
X-ORIGINAL-URL:https://filipinosocialclub.org
X-WR-CALDESC:Events for Filipino Social Club
REFRESH-INTERVAL;VALUE=DURATION:PT1H
X-Robots-Tag:noindex
X-PUBLISHED-TTL:PT1H
BEGIN:VTIMEZONE
TZID:UTC
BEGIN:STANDARD
TZOFFSETFROM:+0000
TZOFFSETTO:+0000
TZNAME:UTC
DTSTART:20230101T000000
END:STANDARD
END:VTIMEZONE
BEGIN:VEVENT
DTSTART;TZID=UTC:20231217T140000
DTEND;TZID=UTC:20231217T220000
DTSTAMP:20260425T150343
CREATED:20240408T081834Z
LAST-MODIFIED:20240408T081849Z
UID:745-1702821600-1702850400@filipinosocialclub.org
SUMMARY:Paskong Palarong Pinoy
DESCRIPTION:
URL:https://filipinosocialclub.org/event/745/
LOCATION:Pakistan Association\, Oud Metha\, Dubai\, Dubai\, United Arab Emirates
ATTACH;FMTTYPE=image/jpeg:https://filipinosocialclub.org/wp-content/uploads/2024/04/PPP-Main-Poster.jpg
END:VEVENT
END:VCALENDAR